Workbook
Name _MailAutoSig: #REF!

Sheet DATA TAB (DON'T DELETE.DET PIZ)
A1: WTD | D1: 28 DAY PERIOD | G1: Current Year
A2: START | B2: END | D2: START | E2: END | G2: END
A3: =B3-6 -> 45292 | B3: =A4-1 -> 45298 | D3: =E3-27 -> 45278 | E3: =D4-1 -> 45305 | G3: 45781
A4: =B4-6 -> 45299 | B4: =A5-1 -> 45305 | D4: =E4-27 -> 45306 | E4: =D5-1 -> 45333 | G4: =G3+7 -> 45788
A5: =B5-6 -> 45306 | B5: =A6-1 -> 45312 | D5: =E5-27 -> 45334 | E5: =D6-1 -> 45361 | G5: =G4+7 -> 45795
A6: =B6-6 -> 45313 | B6: =A7-1 -> 45319 | D6: =E6-27 -> 45362 | E6: =D7-1 -> 45389 | G6: =G5+7 -> 45802
A7: =B7-6 -> 45320 | B7: =A8-1 -> 45326 | D7: 45390 | E7: 45417 | G7: =G6+7 -> 45809
A8: =B8-6 -> 45327 | B8: =A9-1 -> 45333 | D8: 45397 | E8: 45424 | G8: =G7+7 -> 45816
A9: =B9-6 -> 45334 | B9: =A10-1 -> 45340 | D9: 45404 | E9: 45431 | G9: =G8+7 -> 45823
A10: =B10-6 -> 45341 | B10: =A11-1 -> 45347 | D10: 45411 | E10: 45438 | G10: =G9+7 -> 45830
A11: =B11-6 -> 45348 | B11: =A12-1 -> 45354 | D11: 45418 | E11: 45445 | G11: =G10+7 -> 45837
A12: =B12-6 -> 45355 | B12: =A13-1 -> 45361 | D12: 45425 | E12: 45452 | G12: =G11+7 -> 45844
A13: =B13-6 -> 45362 | B13: =A14-1 -> 45368 | D13: 45432 | E13: 45459 | G13: =G12+7 -> 45851
A14: =B14-6 -> 45369 | B14: =A15-1 -> 45375 | D14: 45439 | E14: 45466 | G14: =G13+7 -> 45858
A15: =B15-6 -> 45376 | B15: =A16-1 -> 45382 | D15: 45446 | E15: 45473 | G15: =G14+7 -> 45865
A16: =B16-6 -> 45383 | B16: =A17-1 -> 45389 | D16: 45453 | E16: 45480 | G16: =G15+7 -> 45872
A17: =B17-6 -> 45390 | B17: =A18-1 -> 45396 | D17: 45460 | E17: 45487 | G17: =G16+7 -> 45879
A18: =B18-6 -> 45397 | B18: =A19-1 -> 45403 | D18: 45467 | E18: 45494 | G18: =G17+7 -> 45886
A19: =B19-6 -> 45404 | B19: =A20-1 -> 45410 | D19: 45474 | E19: 45501 | G19: =G18+7 -> 45893
A20: 45411 | B20: 45417 | D20: 45481 | E20: 45508 | G20: =G19+7 -> 45900
A21: 45418 | B21: 45424 | D21: 45488 | E21: 45515 | G21: =G20+7 -> 45907
A22: 45425 | B22: 45431 | D22: 45495 | E22: 45522 | G22: =G21+7 -> 45914
A23: 45432 | B23: 45438 | D23: 45502 | E23: 45529 | G23: =G22+7 -> 45921
A24: 45439 | B24: 45445 | D24: 45509 | E24: 45536 | G24: =G23+7 -> 45928
A25: 45446 | B25: 45452 | D25: 45516 | E25: 45543 | G25: =G24+7 -> 45935
A26: 45453 | B26: 45459 | D26: 45523 | E26: 45550 | G26: =G25+7 -> 45942
A27: 45460 | B27: 45466 | D27: 45530 | E27: 45557 | G27: =G26+7 -> 45949
A28: 45467 | B28: 45473 | D28: 45537 | E28: 45564 | G28: =G27+7 -> 45956
A29: 45474 | B29: 45480 | D29: 45544 | E29: 45571 | G29: =G28+7 -> 45963
A30: 45481 | B30: 45487 | D30: 45551 | E30: 45578 | G30: =G29+7 -> 45970
A31: 45488 | B31: 45494 | D31: 45558 | E31: 45585 | G31: =G30+7 -> 45977
... A42: 45565 | B42: 45571 | D42: 45635 | E42: 45662 | G42: =G41+7 -> 46054
A43: 45572 | B43: 45578 | D43: =D42+7 -> 45642 | E43: =E42+7 -> 45669 | G43: =G42+7 -> 46061
A44: 45579 | B44: 45585 | D44: =D43+7 -> 45649 | E44: =E43+7 -> 45676 | G44: =G43+7 -> 46068
A45: 45586 | B45: 45592 | D45: =D44+7 -> 45656 | E45: =E44+7 -> 45683 | G45: =G44+7 -> 46075
A46: 45593 | B46: 45599 | D46: =D45+7 -> 45663 | E46: =E45+7 -> 45690 | G46: =G45+7 -> 46082
A47: 45600 | B47: 45606 | D47: =D46+7 -> 45670 | E47: =E46+7 -> 45697 | G47: =G46+7 -> 46089
A48: 45607 | B48: 45613 | D48: =D47+7 -> 45677 | E48: =E47+7 -> 45704 | G48: =G47+7 -> 46096
A49: 45614 | B49: 45620 | D49: =D48+7 -> 45684 | E49: =E48+7 -> 45711 | G49: =G48+7 -> 46103
A50: 45621 | B50: 45627 | D50: =D49+7 -> 45691 | E50: =E49+7 -> 45718 | G50: =G49+7 -> 46110
...

Sheet CHRONIC RESETTLEMENTS
A1: STREET ENCAMPMENT TASK FORCE: CHRONIC RESETTLEMENT
A3: DATE IDENTIFIED | C3: LOCATION INFORMATION | L3: NYPD PRECINCT RESPONSE | O3: PREVIOUS REMOVAL HISTORY | Q3: ADDITIONAL AGENCY CONFERRALS | U3: DEPARTMENT OF HOMELESS SERVICES | X3: DHS ADDITIONAL RESOURCES: | AE3: Department of Health and Mental Hygiene
A8: DATE IDENTIFIED AS CHRONIC | B8: SITE ACTIVE? (YES / NO) | C8: AGENCY | D8: BORO | E8: PCT | F8: LOCATION | G8: CROSS STREET 1 | H8: CROSS STREET 2 | I8: AVENUE 1 | J8: AVENUE 2 | K8: TIMES RESETTLED: | L8: NARCOTICS PRONE (YES / NO) | M8: BUILDING ENVIRONMENT # 1 | N8: BUILDING ENVIRONMENT # 2 | O8: REMOVAL DETERMINATION 9.41 / 9.58 | P8: DATE OF REMOVAL | Q8: DATE - AGENCY | R8: NOTES | U8: CLINCIAN VISIT DATE: | V8: RESOLUTION | W8: RESOLUTION - ADDITIONAL NOTES | X8: RESPONDING RESOURCE | Y8: DATE RESPONDED | Z8: RESOLUTION | AA8: RESOLUTION - ADDITIONAL NOTES | AB8: # OF CLIENTS ENGAGED (ENTER NO. ONLY) | AC8: # OF KNOWN CLIENTS (ENTER NO. ONLY) | AD8: OF THE KNOWN # OF CLIENTS, HOW MANY ARE ON CASE LOAD? | AE8: TEAM VISIT DATE | AF8: # OF APPROACHES (ENTER NO. ONLY) | AG8: # OF ENGAGMENTS (ENTER NO. ONLY) | AH8: REMOVAL CONDUCTED? (Y/N) | AI8: Voluntary / Involuntary (IF NO, SELECT N/A) | AJ8: # OF MENTAL HEALTH REFERRALS (ENTER NO. ONLY) | AK8: # OF SUBSTANCE ABUSE REFERRALS (ENTER NO. ONLY) | AL8: # OF SOCIAL SERVICES REFERRALS (ENTER NO. ONLY) | AM8: TOTAL REFERRALS MADE | AN8: RESPONDING RESOURCE | AO8: DATE RESPONDED | AP8: RESOLUTION | AQ8: RESOLUTION - ADDITIONAL NOTES
B9: NO | C9: DSNY | D9: PBMS | E9: 5 | F9: PROSPECT AVENUE & 4 AVENUE | G9: N/A | H9: N/A | I9: PROSPECT AVENUE | J9: 4 AVENUE | K9: 55 | L9: NO | M9: UNDERPASS | N9: N/A | O9: N/A | P9: N/A | Q9: N/A | R9: N/A
B10: NO | C10: DSNY | D10: PBMS | E10: 5 | F10: 60 LAFAYETTE STREET | G10: LEONARD STREET | H10: FRANKLIN STREET | I10: LAFAYETTE STREET | J10: N/A | K10: 51 | L10: NO | M10: N/A | N10: N/A | O10: N/A | P10: N/A | Q10: N/A | R10: N/A

Sheet Sheet1
A1: 001 | B1: {=_xlfn.UNIQUE(_xlfn._xlws.FILTER(#REF!,#REF!= Sheet1!A1))} -> #REF! | C1: =COUNTIFS(#REF!, Sheet1!B1,#REF!, Sheet1!$A$1) -> #REF! | E1: {=_xlfn.TEXTJOIN(", ", TRUE, _xlfn._xlws.FILTER(B:B, C:C=F1))} -> #REF! | F1: {=_xlfn.UNIQUE(LARGE(C:C, _xlfn.SEQUENCE(10)))} -> #REF! | G1: =_xlfn.MAXIFS(#REF!,#REF!, Sheet1!E1,#REF!, A$1) -> #REF! | H1: =TEXT(_xlfn.MAXIFS(#REF!,#REF!, E1,#REF!, $A$1), "MM/DD/YYYY") -> #REF! | J1: 005 | K1: {=_xlfn.UNIQUE(_xlfn._xlws.FILTER(#REF!,#REF!= Sheet1!J1))} -> #REF! | L1: =COUNTIFS(#REF!, Sheet1!K1,#REF!, Sheet1!$J$1) -> #REF! | N1: {=_xlfn.TEXTJOIN(", ", TRUE, _xlfn._xlws.FILTER(K:K, L:L=O1))} -> #REF! | O1: {=_xlfn.UNIQUE(LARGE(L:L, _xlfn.SEQUENCE(10)))} -> #REF! | Q1: 006 | R1: {=_xlfn.UNIQUE(_xlfn._xlws.FILTER(#REF!,#REF!= Sheet1!Q1))} -> #REF! | S1: =COUNTIFS(#REF!, Sheet1!R1,#REF!, Sheet1!Q$1) -> #REF! | U1: {=_xlfn.TEXTJOIN(", ", TRUE, _xlfn._xlws.FILTER(R:R, S:S=V1))} -> #REF! | V1: {=_xlfn.UNIQUE(LARGE(S:S, _xlfn.SEQUENCE(10)))} -> #REF! | X1: 007 | Y1: {=_xlfn.UNIQUE(_xlfn._xlws.FILTER(#REF!,#REF!= Sheet1!X1))} -> #REF! | Z1: =COUNTIFS(#REF!, Sheet1!Y1,#REF!, Sheet1!X$1) -> #REF! | AB1: {=_xlfn.TEXTJOIN(", ", TRUE, _xlfn._xlws.FILTER(Y:Y, Z:Z=AC1))} -> #REF! | AC1: {=_xlfn.UNIQUE(LARGE(Z:Z, _xlfn.SEQUENCE(10)))} -> #REF! | AE1: 009 | AF1: {=_xlfn.UNIQUE(_xlfn._xlws.FILTER(#REF!,#REF!= Sheet1!AE1))} -> #REF! | AG1: =COUNTIFS(#REF!, Sheet1!AF1,#REF!, Sheet1!AE$1) -> #REF! | AI1: {=_xlfn.TEXTJOIN(", ", TRUE, _xlfn._xlws.FILTER(AF:AF, AG:AG=AJ1))} -> #REF! | AJ1: {=_xlfn.UNIQUE(LARGE(AG:AG, _xlfn.SEQUENCE(10)))} -> #REF! | AL1: 010 | AM1: {=_xlfn.UNIQUE(_xlfn._xlws.FILTER(#REF!,#REF!= Sheet1!AL1))} -> #REF! | AN1: =COUNTIFS(#REF!, Sheet1!AM1,#REF!, Sheet1!AL$1) -> #REF! | AP1: {=_xlfn.TEXTJOIN(", ", TRUE, _xlfn._xlws.FILTER(AM:AM, AN:AN=AQ1))} -> #REF! | AQ1: {=_xlfn.UNIQUE(LARGE(AN:AN, _xlfn.SEQUENCE(10)))} -> #REF! | AS1: 013 | AT1: {=_xlfn.UNIQUE(_xlfn._xlws.FILTER(#REF!,#REF!= Sheet1!AS1))} -> #REF! | AU1: =COUNTIFS(#REF!, Sheet1!AT1,#REF!, Sheet1!AS$1) -> #REF! | AW1: {=_xlfn.TEXTJOIN(", ", TRUE, _xlfn._xlws.FILTER(AT:AT, AU:AU=AX1))} -> #REF! | AX1: {=_xlfn.UNIQUE(LARGE(AU:AU, _xlfn.SEQUENCE(10)))} -> #REF! | AZ1: 014 | BA1: {=_xlfn.UNIQUE(_xlfn._xlws.FILTER(#REF!,#REF!= Sheet1!AZ1))} -> #REF! | BB1: =COUNTIFS(#REF!, Sheet1!BA1,#REF!, Sheet1!AZ$1) -> #REF! | BD1: {=_xlfn.TEXTJOIN(", ", TRUE, _xlfn._xlws.FILTER(BA:BA, BB:BB=BE1))} -> #REF! | BE1: {=_xlfn.UNIQUE(LARGE(BB:BB, _xlfn.SEQUENCE(10)))} -> #REF! | BG1: 017 | BH1: {=_xlfn.UNIQUE(_xlfn._xlws.FILTER(#REF!,#REF!= Sheet1!BG1))} -> #REF! | BI1: =COUNTIFS(#REF!, Sheet1!BH1,#REF!, Sheet1!BG$1) -> #REF! | BK1: {=_xlfn.TEXTJOIN(", ", TRUE, _xlfn._xlws.FILTER(BH:BH, BI:BI=BL1))} -> #REF! | BL1: {=_xlfn.UNIQUE(LARGE(BI:BI, _xlfn.SEQUENCE(10)))} -> #REF! | BN1: 018 | BO1: {=_xlfn.UNIQUE(_xlfn._xlws.FILTER(#REF!,#REF!= Sheet1!BN1))} -> #REF! | BP1: =COUNTIFS(#REF!, Sheet1!BO1,#REF!, Sheet1!BN$1) -> #REF! | BR1: {=_xlfn.TEXTJOIN(", ", TRUE, _xlfn._xlws.FILTER(BO:BO, BP:BP=BS1))} -> #REF! | BS1: {=_xlfn.UNIQUE(LARGE(BP:BP, _xlfn.SEQUENCE(10)))} -> #REF! | BU1: 019 | BV1: {=_xlfn.UNIQUE(_xlfn._xlws.FILTER(#REF!,#REF!= Sheet1!BU1))} -> #REF! | BW1: =COUNTIFS(#REF!, Sheet1!BV1,#REF!, Sheet1!BU$1) -> #REF! | BY1: {=_xlfn.TEXTJOIN(", ", TRUE, _xlfn._xlws.FILTER(BV:BV, BW:BW=BZ1))} -> #REF! | BZ1: {=_xlfn.UNIQUE(LARGE(BW:BW, _xlfn.SEQUENCE(10)))} -> #REF! | CB1: 020 | CC1: {=_xlfn.UNIQUE(_xlfn._xlws.FILTER(#REF!,#REF!= Sheet1!CB1))} -> #REF! | CD1: =COUNTIFS(#REF!, Sheet1!CC1,#REF!, Sheet1!CB$1) -> #REF! | CF1: {=_xlfn.TEXTJOIN(", ", TRUE, _xlfn._xlws.FILTER(CC:CC, CD:CD=CG1))} -> #REF! | CG1: {=_xlfn.UNIQUE(LARGE(CD:CD, _xlfn.SEQUENCE(10)))} -> #REF! | CI1: 022 | CJ1: {=_xlfn.UNIQUE(_xlfn._xlws.FILTER(#REF!,#REF!= Sheet1!CI1))} -> #REF! | CK1: =COUNTIFS(#REF!, Sheet1!CJ1,#REF!, Sheet1!CI$1) -> #REF! | CM1: {=_xlfn.TEXTJOIN(", ", TRUE, _xlfn._xlws.FILTER(CJ:CJ, CK:CK=CN1))} -> #REF! | CN1: {=_xlfn.UNIQUE(LARGE(CK:CK, _xlfn.SEQUENCE(3)))} -> #REF! | CP1: 023 | CQ1: {=_xlfn.UNIQUE(_xlfn._xlws.FILTER(#REF!,#REF!= Sheet1!CP1))} -> #REF! | CR1: =COUNTIFS(#REF!, Sheet1!CQ1,#REF!, Sheet1!CP$1) -> #REF! | CT1: {=_xlfn.TEXTJOIN(", ", TRUE, _xlfn._xlws.FILTER(CQ:CQ, CR:CR=CU1))} -> #REF! | CU1: {=_xlfn.UNIQUE(LARGE(CR:CR, _xlfn.SEQUENCE(10)))} -> #REF!
C2: =COUNTIFS(#REF!, Sheet1!B2,#REF!, Sheet1!$A$1) -> #REF! | E2: {=_xlfn.TEXTJOIN(", ", TRUE, _xlfn._xlws.FILTER(B:B, C:C=F2))} -> #REF! | G2: =_xlfn.MAXIFS(#REF!,#REF!, Sheet1!E2,#REF!, A$1) -> #REF! | H2: =TEXT(_xlfn.MAXIFS(#REF!,#REF!, E2,#REF!, $A$1), "MM/DD/YYYY") -> #REF! | L2: =COUNTIFS(#REF!, Sheet1!K2,#REF!, Sheet1!$J$1) -> #REF! | N2: {=_xlfn.TEXTJOIN(", ", TRUE, _xlfn._xlws.FILTER(K:K, L:L=O2))} -> #REF! | S2: =COUNTIFS(#REF!, Sheet1!R2,#REF!, Sheet1!Q$1) -> #REF! | U2: {=_xlfn.TEXTJOIN(", ", TRUE, _xlfn._xlws.FILTER(R:R, S:S=V2))} -> #REF! | Z2: =COUNTIFS(#REF!, Sheet1!Y2,#REF!, Sheet1!X$1) -> #REF! | AB2: {=_xlfn.TEXTJOIN(", ", TRUE, _xlfn._xlws.FILTER(Y:Y, Z:Z=AC2))} -> #REF! | AG2: =COUNTIFS(#REF!, Sheet1!AF2,#REF!, Sheet1!AE$1) -> #REF! | AI2: {=_xlfn.TEXTJOIN(", ", TRUE, _xlfn._xlws.FILTER(AF:AF, AG:AG=AJ2))} -> #REF! | AN2: =COUNTIFS(#REF!, Sheet1!AM2,#REF!, Sheet1!AL$1) -> #REF! | AP2: {=_xlfn.TEXTJOIN(", ", TRUE, _xlfn._xlws.FILTER(AM:AM, AN:AN=AQ2))} -> #REF! | AU2: =COUNTIFS(#REF!, Sheet1!AT2,#REF!, Sheet1!AS$1) -> #REF! | AW2: {=_xlfn.TEXTJOIN(", ", TRUE, _xlfn._xlws.FILTER(AT:AT, AU:AU=AX2))} -> #REF! | BB2: =COUNTIFS(#REF!, Sheet1!BA2,#REF!, Sheet1!AZ$1) -> #REF! | BD2: {=_xlfn.TEXTJOIN(", ", TRUE, _xlfn._xlws.FILTER(BA:BA, BB:BB=BE2))} -> #REF! | BI2: =COUNTIFS(#REF!, Sheet1!BH2,#REF!, Sheet1!BG$1) -> #REF! | BK2: {=_xlfn.TEXTJOIN(", ", TRUE, _xlfn._xlws.FILTER(BH:BH, BI:BI=BL2))} -> #REF! | BP2: =COUNTIFS(#REF!, Sheet1!BO2,#REF!, Sheet1!BN$1) -> #REF! | BR2: {=_xlfn.TEXTJOIN(", ", TRUE, _xlfn._xlws.FILTER(BO:BO, BP:BP=BS2))} -> #REF! | BW2: =COUNTIFS(#REF!, Sheet1!BV2,#REF!, Sheet1!BU$1) -> #REF! | BY2: {=_xlfn.TEXTJOIN(", ", TRUE, _xlfn._xlws.FILTER(BV:BV, BW:BW=BZ2))} -> #REF! | CD2: =COUNTIFS(#REF!, Sheet1!CC2,#REF!, Sheet1!CB$1) -> #REF! | CF2: {=_xlfn.TEXTJOIN(", ", TRUE, _xlfn._xlws.FILTER(CC:CC, CD:CD=CG2))} -> #REF! | CK2: =COUNTIFS(#REF!, Sheet1!CJ2,#REF!, Sheet1!CI$1) -> #REF! | CM2: {=_xlfn.TEXTJOIN(", ", TRUE, _xlfn._xlws.FILTER(CJ:CJ, CK:CK=CN2))} -> #REF! | CR2: =COUNTIFS(#REF!, Sheet1!CQ2,#REF!, Sheet1!CP$1) -> #REF! | CT2: {=_xlfn.TEXTJOIN(", ", TRUE, _xlfn._xlws.FILTER(CQ:CQ, CR:CR=CU2))} -> #REF!
C3: =COUNTIFS(#REF!, Sheet1!B3,#REF!, Sheet1!$A$1) -> #REF! | E3: {=_xlfn.TEXTJOIN(", ", TRUE, _xlfn._xlws.FILTER(B:B, C:C=F3))} -> #REF! | G3: =_xlfn.MAXIFS(#REF!,#REF!, Sheet1!E3,#REF!, A$1) -> #REF! | H3: =TEXT(_xlfn.MAXIFS(#REF!,#REF!, E3,#REF!, $A$1), "MM/DD/YYYY") -> #REF! | L3: =COUNTIFS(#REF!, Sheet1!K3,#REF!, Sheet1!$J$1) -> #REF! | N3: {=_xlfn.TEXTJOIN(", ", TRUE, _xlfn._xlws.FILTER(K:K, L:L=O3))} -> #REF! | S3: =COUNTIFS(#REF!, Sheet1!R3,#REF!, Sheet1!Q$1) -> #REF! | U3: {=_xlfn.TEXTJOIN(", ", TRUE, _xlfn._xlws.FILTER(R:R, S:S=V3))} -> #REF! | Z3: =COUNTIFS(#REF!, Sheet1!Y3,#REF!, Sheet1!X$1) -> #REF! | AB3: {=_xlfn.TEXTJOIN(", ", TRUE, _xlfn._xlws.FILTER(Y:Y, Z:Z=AC3))} -> #REF! | AG3: =COUNTIFS(#REF!, Sheet1!AF3,#REF!, Sheet1!AE$1) -> #REF! | AI3: {=_xlfn.TEXTJOIN(", ", TRUE, _xlfn._xlws.FILTER(AF:AF, AG:AG=AJ3))} -> #REF! | AN3: =COUNTIFS(#REF!, Sheet1!AM3,#REF!, Sheet1!AL$1) -> #REF! | AP3: {=_xlfn.TEXTJOIN(", ", TRUE, _xlfn._xlws.FILTER(AM:AM, AN:AN=AQ3))} -> #REF! | AU3: =COUNTIFS(#REF!, Sheet1!AT3,#REF!, Sheet1!AS$1) -> #REF! | AW3: {=_xlfn.TEXTJOIN(", ", TRUE, _xlfn._xlws.FILTER(AT:AT, AU:AU=AX3))} -> #REF! | BB3: =COUNTIFS(#REF!, Sheet1!BA3,#REF!, Sheet1!AZ$1) -> #REF! | BD3: {=_xlfn.TEXTJOIN(", ", TRUE, _xlfn._xlws.FILTER(BA:BA, BB:BB=BE3))} -> #REF! | BI3: =COUNTIFS(#REF!, Sheet1!BH3,#REF!, Sheet1!BG$1) -> #REF! | BK3: {=_xlfn.TEXTJOIN(", ", TRUE, _xlfn._xlws.FILTER(BH:BH, BI:BI=BL3))} -> #REF! | BP3: =COUNTIFS(#REF!, Sheet1!BO3,#REF!, Sheet1!BN$1) -> #REF! | BR3: {=_xlfn.TEXTJOIN(", ", TRUE, _xlfn._xlws.FILTER(BO:BO, BP:BP=BS3))} -> #REF! | BW3: =COUNTIFS(#REF!, Sheet1!BV3,#REF!, Sheet1!BU$1) -> #REF! | BY3: {=_xlfn.TEXTJOIN(", ", TRUE, _xlfn._xlws.FILTER(BV:BV, BW:BW=BZ3))} -> #REF! | CD3: =COUNTIFS(#REF!, Sheet1!CC3,#REF!, Sheet1!CB$1) -> #REF! | CF3: {=_xlfn.TEXTJOIN(", ", TRUE, _xlfn._xlws.FILTER(CC:CC, CD:CD=CG3))} -> #REF! | CK3: =COUNTIFS(#REF!, Sheet1!CJ3,#REF!, Sheet1!CI$1) -> #REF! | CM3: {=_xlfn.TEXTJOIN(", ", TRUE, _xlfn._xlws.FILTER(CJ:CJ, CK:CK=CN3))} -> #REF! | CR3: =COUNTIFS(#REF!, Sheet1!CQ3,#REF!, Sheet1!CP$1) -> #REF! | CT3: {=_xlfn.TEXTJOIN(", ", TRUE, _xlfn._xlws.FILTER(CQ:CQ, CR:CR=CU3))} -> #REF!
C4: =COUNTIFS(#REF!, Sheet1!B4,#REF!, Sheet1!$A$1) -> #REF! | E4: {=_xlfn.TEXTJOIN(", ", TRUE, _xlfn._xlws.FILTER(B:B, C:C=F4))} -> #REF! | G4: =_xlfn.MAXIFS(#REF!,#REF!, Sheet1!E4,#REF!, A$1) -> #REF! | H4: =TEXT(_xlfn.MAXIFS(#REF!,#REF!, E4,#REF!, $A$1), "MM/DD/YYYY") -> #REF! | L4: =COUNTIFS(#REF!, Sheet1!K4,#REF!, Sheet1!$J$1) -> #REF! | N4: {=_xlfn.TEXTJOIN(", ", TRUE, _xlfn._xlws.FILTER(K:K, L:L=O4))} -> #REF! | S4: =COUNTIFS(#REF!, Sheet1!R4,#REF!, Sheet1!Q$1) -> #REF! | U4: {=_xlfn.TEXTJOIN(", ", TRUE, _xlfn._xlws.FILTER(R:R, S:S=V4))} -> #REF! | Z4: =COUNTIFS(#REF!, Sheet1!Y4,#REF!, Sheet1!X$1) -> #REF! | AB4: {=_xlfn.TEXTJOIN(", ", TRUE, _xlfn._xlws.FILTER(Y:Y, Z:Z=AC4))} -> #REF! | AG4: =COUNTIFS(#REF!, Sheet1!AF4,#REF!, Sheet1!AE$1) -> #REF! | AI4: {=_xlfn.TEXTJOIN(", ", TRUE, _xlfn._xlws.FILTER(AF:AF, AG:AG=AJ4))} -> #REF! | AN4: =COUNTIFS(#REF!, Sheet1!AM4,#REF!, Sheet1!AL$1) -> #REF! | AP4: {=_xlfn.TEXTJOIN(", ", TRUE, _xlfn._xlws.FILTER(AM:AM, AN:AN=AQ4))} -> #REF! | AU4: =COUNTIFS(#REF!, Sheet1!AT4,#REF!, Sheet1!AS$1) -> #REF! | AW4: {=_xlfn.TEXTJOIN(", ", TRUE, _xlfn._xlws.FILTER(AT:AT, AU:AU=AX4))} -> #REF! | BB4: =COUNTIFS(#REF!, Sheet1!BA4,#REF!, Sheet1!AZ$1) -> #REF! | BD4: {=_xlfn.TEXTJOIN(", ", TRUE, _xlfn._xlws.FILTER(BA:BA, BB:BB=BE4))} -> #REF! | BI4: =COUNTIFS(#REF!, Sheet1!BH4,#REF!, Sheet1!BG$1) -> #REF! | BK4: {=_xlfn.TEXTJOIN(", ", TRUE, _xlfn._xlws.FILTER(BH:BH, BI:BI=BL4))} -> #REF! | BP4: =COUNTIFS(#REF!, Sheet1!BO4,#REF!, Sheet1!BN$1) -> #REF! | BR4: {=_xlfn.TEXTJOIN(", ", TRUE, _xlfn._xlws.FILTER(BO:BO, BP:BP=BS4))} -> #REF! | BW4: =COUNTIFS(#REF!, Sheet1!BV4,#REF!, Sheet1!BU$1) -> #REF! | BY4: {=_xlfn.TEXTJOIN(", ", TRUE, _xlfn._xlws.FILTER(BV:BV, BW:BW=BZ4))} -> #REF! | CD4: =COUNTIFS(#REF!, Sheet1!CC4,#REF!, Sheet1!CB$1) -> #REF! | CF4: {=_xlfn.TEXTJOIN(", ", TRUE, _xlfn._xlws.FILTER(CC:CC, CD:CD=CG4))} -> #REF! | CK4: =COUNTIFS(#REF!, Sheet1!CJ4,#REF!, Sheet1!CI$1) -> #REF! | CM4: {=_xlfn.TEXTJOIN(", ", TRUE, _xlfn._xlws.FILTER(CJ:CJ, CK:CK=CN4))} -> #REF! | CR4: =COUNTIFS(#REF!, Sheet1!CQ4,#REF!, Sheet1!CP$1) -> #REF! | CT4: {=_xlfn.TEXTJOIN(", ", TRUE, _xlfn._xlws.FILTER(CQ:CQ, CR:CR=CU4))} -> #REF!
C5: =COUNTIFS(#REF!, Sheet1!B5,#REF!, Sheet1!$A$1) -> #REF! | E5: {=_xlfn.TEXTJOIN(", ", TRUE, _xlfn._xlws.FILTER(B:B, C:C=F5))} -> #REF! | L5: =COUNTIFS(#REF!, Sheet1!K5,#REF!, Sheet1!$J$1) -> #REF! | N5: {=_xlfn.TEXTJOIN(", ", TRUE, _xlfn._xlws.FILTER(K:K, L:L=O5))} -> #REF! | S5: =COUNTIFS(#REF!, Sheet1!R5,#REF!, Sheet1!Q$1) -> #REF! | U5: {=_xlfn.TEXTJOIN(", ", TRUE, _xlfn._xlws.FILTER(R:R, S:S=V5))} -> #REF! | Z5: =COUNTIFS(#REF!, Sheet1!Y5,#REF!, Sheet1!X$1) -> #REF! | AB5: {=_xlfn.TEXTJOIN(", ", TRUE, _xlfn._xlws.FILTER(Y:Y, Z:Z=AC5))} -> #REF! | AG5: =COUNTIFS(#REF!, Sheet1!AF5,#REF!, Sheet1!AE$1) -> #REF! | AI5: {=_xlfn.TEXTJOIN(", ", TRUE, _xlfn._xlws.FILTER(AF:AF, AG:AG=AJ5))} -> #REF! | AN5: =COUNTIFS(#REF!, Sheet1!AM5,#REF!, Sheet1!AL$1) -> #REF! | AP5: {=_xlfn.TEXTJOIN(", ", TRUE, _xlfn._xlws.FILTER(AM:AM, AN:AN=AQ5))} -> #REF! | AU5: =COUNTIFS(#REF!, Sheet1!AT5,#REF!, Sheet1!AS$1) -> #REF! | AW5: {=_xlfn.TEXTJOIN(", ", TRUE, _xlfn._xlws.FILTER(AT:AT, AU:AU=AX5))} -> #REF! | BB5: =COUNTIFS(#REF!, Sheet1!BA5,#REF!, Sheet1!AZ$1) -> #REF! | BD5: {=_xlfn.TEXTJOIN(", ", TRUE, _xlfn._xlws.FILTER(BA:BA, BB:BB=BE5))} -> #REF! | BI5: =COUNTIFS(#REF!, Sheet1!BH5,#REF!, Sheet1!BG$1) -> #REF! | BK5: {=_xlfn.TEXTJOIN(", ", TRUE, _xlfn._xlws.FILTER(BH:BH, BI:BI=BL5))} -> #REF! | BP5: =COUNTIFS(#REF!, Sheet1!BO5,#REF!, Sheet1!BN$1) -> #REF! | BR5: {=_xlfn.TEXTJOIN(", ", TRUE, _xlfn._xlws.FILTER(BO:BO, BP:BP=BS5))} -> #REF! | BW5: =COUNTIFS(#REF!, Sheet1!BV5,#REF!, Sheet1!BU$1) -> #REF! | BY5: {=_xlfn.TEXTJOIN(", ", TRUE, _xlfn._xlws.FILTER(BV:BV, BW:BW=BZ5))} -> #REF! | CD5: =COUNTIFS(#REF!, Sheet1!CC5,#REF!, Sheet1!CB$1) -> #REF! | CF5: {=_xlfn.TEXTJOIN(", ", TRUE, _xlfn._xlws.FILTER(CC:CC, CD:CD=CG5))} -> #REF! | CK5: =COUNTIFS(#REF!, Sheet1!CJ5,#REF!, Sheet1!CI$1) -> #REF! | CM5: {=_xlfn.TEXTJOIN(", ", TRUE, _xlfn._xlws.FILTER(CJ:CJ, CK:CK=CN5))} -> #REF! | CR5: =COUNTIFS(#REF!, Sheet1!CQ5,#REF!, Sheet1!CP$1) -> #REF! | CT5: {=_xlfn.TEXTJOIN(", ", TRUE, _xlfn._xlws.FILTER(CQ:CQ, CR:CR=CU5))} -> #REF!
C6: =COUNTIFS(#REF!, Sheet1!B6,#REF!, Sheet1!$A$1) -> #REF! | E6: {=_xlfn.TEXTJOIN(", ", TRUE, _xlfn._xlws.FILTER(B:B, C:C=F6))} -> #REF! | L6: =COUNTIFS(#REF!, Sheet1!K6,#REF!, Sheet1!$J$1) -> #REF! | N6: {=_xlfn.TEXTJOIN(", ", TRUE, _xlfn._xlws.FILTER(K:K, L:L=O6))} -> #REF! | S6: =COUNTIFS(#REF!, Sheet1!R6,#REF!, Sheet1!Q$1) -> #REF! | U6: {=_xlfn.TEXTJOIN(", ", TRUE, _xlfn._xlws.FILTER(R:R, S:S=V6))} -> #REF! | Z6: =COUNTIFS(#REF!, Sheet1!Y6,#REF!, Sheet1!X$1) -> #REF! | AB6: {=_xlfn.TEXTJOIN(", ", TRUE, _xlfn._xlws.FILTER(Y:Y, Z:Z=AC6))} -> #REF! | AG6: =COUNTIFS(#REF!, Sheet1!AF6,#REF!, Sheet1!AE$1) -> #REF! | AI6: {=_xlfn.TEXTJOIN(", ", TRUE, _xlfn._xlws.FILTER(AF:AF, AG:AG=AJ6))} -> #REF! | AN6: =COUNTIFS(#REF!, Sheet1!AM6,#REF!, Sheet1!AL$1) -> #REF! | AP6: {=_xlfn.TEXTJOIN(", ", TRUE, _xlfn._xlws.FILTER(AM:AM, AN:AN=AQ6))} -> #REF! | AU6: =COUNTIFS(#REF!, Sheet1!AT6,#REF!, Sheet1!AS$1) -> #REF! | AW6: {=_xlfn.TEXTJOIN(", ", TRUE, _xlfn._xlws.FILTER(AT:AT, AU:AU=AX6))} -> #REF! | BB6: =COUNTIFS(#REF!, Sheet1!BA6,#REF!, Sheet1!AZ$1) -> #REF! | BD6: {=_xlfn.TEXTJOIN(", ", TRUE, _xlfn._xlws.FILTER(BA:BA, BB:BB=BE6))} -> #REF! | BI6: =COUNTIFS(#REF!, Sheet1!BH6,#REF!, Sheet1!BG$1) -> #REF! | BK6: {=_xlfn.TEXTJOIN(", ", TRUE, _xlfn._xlws.FILTER(BH:BH, BI:BI=BL6))} -> #REF! | BP6: =COUNTIFS(#REF!, Sheet1!BO6,#REF!, Sheet1!BN$1) -> #REF! | BR6: {=_xlfn.TEXTJOIN(", ", TRUE, _xlfn._xlws.FILTER(BO:BO, BP:BP=BS6))} -> #REF! | BW6: =COUNTIFS(#REF!, Sheet1!BV6,#REF!, Sheet1!BU$1) -> #REF! | BY6: {=_xlfn.TEXTJOIN(", ", TRUE, _xlfn._xlws.FILTER(BV:BV, BW:BW=BZ6))} -> #REF! | CD6: =COUNTIFS(#REF!, Sheet1!CC6,#REF!, Sheet1!CB$1) -> #REF! | CF6: {=_xlfn.TEXTJOIN(", ", TRUE, _xlfn._xlws.FILTER(CC:CC, CD:CD=CG6))} -> #REF! | CK6: =COUNTIFS(#REF!, Sheet1!CJ6,#REF!, Sheet1!CI$1) -> #REF! | CM6: {=_xlfn.TEXTJOIN(", ", TRUE, _xlfn._xlws.FILTER(CJ:CJ, CK:CK=CN6))} -> #REF! | CR6: =COUNTIFS(#REF!, Sheet1!CQ6,#REF!, Sheet1!CP$1) -> #REF! | CT6: {=_xlfn.TEXTJOIN(", ", TRUE, _xlfn._xlws.FILTER(CQ:CQ, CR:CR=CU6))} -> #REF!
C7: =COUNTIFS(#REF!, Sheet1!B7,#REF!, Sheet1!$A$1) -> #REF! | E7: {=_xlfn.TEXTJOIN(", ", TRUE, _xlfn._xlws.FILTER(B:B, C:C=F7))} -> #REF! | L7: =COUNTIFS(#REF!, Sheet1!K7,#REF!, Sheet1!$J$1) -> #REF! | N7: {=_xlfn.TEXTJOIN(", ", TRUE, _xlfn._xlws.FILTER(K:K, L:L=O7))} -> #REF! | S7: =COUNTIFS(#REF!, Sheet1!R7,#REF!, Sheet1!Q$1) -> #REF! | U7: {=_xlfn.TEXTJOIN(", ", TRUE, _xlfn._xlws.FILTER(R:R, S:S=V7))} -> #REF! | Z7: =COUNTIFS(#REF!, Sheet1!Y7,#REF!, Sheet1!X$1) -> #REF! | AB7: {=_xlfn.TEXTJOIN(", ", TRUE, _xlfn._xlws.FILTER(Y:Y, Z:Z=AC7))} -> #REF! | AG7: =COUNTIFS(#REF!, Sheet1!AF7,#REF!, Sheet1!AE$1) -> #REF! | AI7: {=_xlfn.TEXTJOIN(", ", TRUE, _xlfn._xlws.FILTER(AF:AF, AG:AG=AJ7))} -> #REF! | AN7: =COUNTIFS(#REF!, Sheet1!AM7,#REF!, Sheet1!AL$1) -> #REF! | AP7: {=_xlfn.TEXTJOIN(", ", TRUE, _xlfn._xlws.FILTER(AM:AM, AN:AN=AQ7))} -> #REF! | AU7: =COUNTIFS(#REF!, Sheet1!AT7,#REF!, Sheet1!AS$1) -> #REF! | AW7: {=_xlfn.TEXTJOIN(", ", TRUE, _xlfn._xlws.FILTER(AT:AT, AU:AU=AX7))} -> #REF! | BB7: =COUNTIFS(#REF!, Sheet1!BA7,#REF!, Sheet1!AZ$1) -> #REF! | BD7: {=_xlfn.TEXTJOIN(", ", TRUE, _xlfn._xlws.FILTER(BA:BA, BB:BB=BE7))} -> #REF! | BI7: =COUNTIFS(#REF!, Sheet1!BH7,#REF!, Sheet1!BG$1) -> #REF! | BK7: {=_xlfn.TEXTJOIN(", ", TRUE, _xlfn._xlws.FILTER(BH:BH, BI:BI=BL7))} -> #REF! | BP7: =COUNTIFS(#REF!, Sheet1!BO7,#REF!, Sheet1!BN$1) -> #REF! | BR7: {=_xlfn.TEXTJOIN(", ", TRUE, _xlfn._xlws.FILTER(BO:BO, BP:BP=BS7))} -> #REF! | BW7: =COUNTIFS(#REF!, Sheet1!BV7,#REF!, Sheet1!BU$1) -> #REF! | BY7: {=_xlfn.TEXTJOIN(", ", TRUE, _xlfn._xlws.FILTER(BV:BV, BW:BW=BZ7))} -> #REF! | CD7: =COUNTIFS(#REF!, Sheet1!CC7,#REF!, Sheet1!CB$1) -> #REF! | CF7: {=_xlfn.TEXTJOIN(", ", TRUE, _xlfn._xlws.FILTER(CC:CC, CD:CD=CG7))} -> #REF! | CK7: =COUNTIFS(#REF!, Sheet1!CJ7,#REF!, Sheet1!CI$1) -> #REF! | CM7: {=_xlfn.TEXTJOIN(", ", TRUE, _xlfn._xlws.FILTER(CJ:CJ, CK:CK=CN7))} -> #REF! | CR7: =COUNTIFS(#REF!, Sheet1!CQ7,#REF!, Sheet1!CP$1) -> #REF! | CT7: {=_xlfn.TEXTJOIN(", ", TRUE, _xlfn._xlws.FILTER(CQ:CQ, CR:CR=CU7))} -> #REF!
C8: =COUNTIFS(#REF!, Sheet1!B8,#REF!, Sheet1!$A$1) -> #REF! | E8: {=_xlfn.TEXTJOIN(", ", TRUE, _xlfn._xlws.FILTER(B:B, C:C=F8))} -> #REF! | L8: =COUNTIFS(#REF!, Sheet1!K8,#REF!, Sheet1!$J$1) -> #REF! | N8: {=_xlfn.TEXTJOIN(", ", TRUE, _xlfn._xlws.FILTER(K:K, L:L=O8))} -> #REF! | S8: =COUNTIFS(#REF!, Sheet1!R8,#REF!, Sheet1!Q$1) -> #REF! | U8: {=_xlfn.TEXTJOIN(", ", TRUE, _xlfn._xlws.FILTER(R:R, S:S=V8))} -> #REF! | Z8: =COUNTIFS(#REF!, Sheet1!Y8,#REF!, Sheet1!X$1) -> #REF! | AG8: =COUNTIFS(#REF!, Sheet1!AF8,#REF!, Sheet1!AE$1) -> #REF! | AI8: {=_xlfn.TEXTJOIN(", ", TRUE, _xlfn._xlws.FILTER(AF:AF, AG:AG=AJ8))} -> #REF! | AN8: =COUNTIFS(#REF!, Sheet1!AM8,#REF!, Sheet1!AL$1) -> #REF! | AP8: {=_xlfn.TEXTJOIN(", ", TRUE, _xlfn._xlws.FILTER(AM:AM, AN:AN=AQ8))} -> #REF! | AU8: =COUNTIFS(#REF!, Sheet1!AT8,#REF!, Sheet1!AS$1) -> #REF! | AW8: {=_xlfn.TEXTJOIN(", ", TRUE, _xlfn._xlws.FILTER(AT:AT, AU:AU=AX8))} -> #REF! | BB8: =COUNTIFS(#REF!, Sheet1!BA8,#REF!, Sheet1!AZ$1) -> #REF! | BD8: {=_xlfn.TEXTJOIN(", ", TRUE, _xlfn._xlws.FILTER(BA:BA, BB:BB=BE8))} -> #REF! | BI8: =COUNTIFS(#REF!, Sheet1!BH8,#REF!, Sheet1!BG$1) -> #REF! | BK8: {=_xlfn.TEXTJOIN(", ", TRUE, _xlfn._xlws.FILTER(BH:BH, BI:BI=BL8))} -> #REF! | BP8: =COUNTIFS(#REF!, Sheet1!BO8,#REF!, Sheet1!BN$1) -> #REF! | BR8: {=_xlfn.TEXTJOIN(", ", TRUE, _xlfn._xlws.FILTER(BO:BO, BP:BP=BS8))} -> #REF! | BW8: =COUNTIFS(#REF!, Sheet1!BV8,#REF!, Sheet1!BU$1) -> #REF! | BY8: {=_xlfn.TEXTJOIN(", ", TRUE, _xlfn._xlws.FILTER(BV:BV, BW:BW=BZ8))} -> #REF! | CD8: =COUNTIFS(#REF!, Sheet1!CC8,#REF!, Sheet1!CB$1) -> #REF! | CF8: {=_xlfn.TEXTJOIN(", ", TRUE, _xlfn._xlws.FILTER(CC:CC, CD:CD=CG8))} -> #REF! | CK8: =COUNTIFS(#REF!, Sheet1!CJ8,#REF!, Sheet1!CI$1) -> #REF! | CM8: {=_xlfn.TEXTJOIN(", ", TRUE, _xlfn._xlws.FILTER(CJ:CJ, CK:CK=CN8))} -> #REF! | CR8: =COUNTIFS(#REF!, Sheet1!CQ8,#REF!, Sheet1!CP$1) -> #REF! | CT8: {=_xlfn.TEXTJOIN(", ", TRUE, _xlfn._xlws.FILTER(CQ:CQ, CR:CR=CU8))} -> #REF!
C9: =COUNTIFS(#REF!, Sheet1!B9,#REF!, Sheet1!$A$1) -> #REF! | E9: {=_xlfn.TEXTJOIN(", ", TRUE, _xlfn._xlws.FILTER(B:B, C:C=F9))} -> #REF! | L9: =COUNTIFS(#REF!, Sheet1!K9,#REF!, Sheet1!$J$1) -> #REF! | N9: {=_xlfn.TEXTJOIN(", ", TRUE, _xlfn._xlws.FILTER(K:K, L:L=O9))} -> #REF! | S9: =COUNTIFS(#REF!, Sheet1!R9,#REF!, Sheet1!Q$1) -> #REF! | U9: {=_xlfn.TEXTJOIN(", ", TRUE, _xlfn._xlws.FILTER(R:R, S:S=V9))} -> #REF! | Z9: =COUNTIFS(#REF!, Sheet1!Y9,#REF!, Sheet1!X$1) -> #REF! | AG9: =COUNTIFS(#REF!, Sheet1!AF9,#REF!, Sheet1!AE$1) -> #REF! | AN9: =COUNTIFS(#REF!, Sheet1!AM9,#REF!, Sheet1!AL$1) -> #REF! | AU9: =COUNTIFS(#REF!, Sheet1!AT9,#REF!, Sheet1!AS$1) -> #REF! | BB9: =COUNTIFS(#REF!, Sheet1!BA9,#REF!, Sheet1!AZ$1) -> #REF! | BD9: {=_xlfn.TEXTJOIN(", ", TRUE, _xlfn._xlws.FILTER(BA:BA, BB:BB=BE9))} -> #REF! | BI9: =COUNTIFS(#REF!, Sheet1!BH9,#REF!, Sheet1!BG$1) -> #REF! | BP9: =COUNTIFS(#REF!, Sheet1!BO9,#REF!, Sheet1!BN$1) -> #REF! | BR9: {=_xlfn.TEXTJOIN(", ", TRUE, _xlfn._xlws.FILTER(BO:BO, BP:BP=BS9))} -> #REF! | BW9: =COUNTIFS(#REF!, Sheet1!BV9,#REF!, Sheet1!BU$1) -> #REF! | CD9: =COUNTIFS(#REF!, Sheet1!CC9,#REF!, Sheet1!CB$1) -> #REF! | CK9: =COUNTIFS(#REF!, Sheet1!CJ9,#REF!, Sheet1!CI$1) -> #REF! | CR9: =COUNTIFS(#REF!, Sheet1!CQ9,#REF!, Sheet1!CP$1) -> #REF!
C10: =COUNTIFS(#REF!, Sheet1!B10,#REF!, Sheet1!$A$1) -> #REF! | E10: {=_xlfn.TEXTJOIN(", ", TRUE, _xlfn._xlws.FILTER(B:B, C:C=F10))} -> #REF! | L10: =COUNTIFS(#REF!, Sheet1!K10,#REF!, Sheet1!$J$1) -> #REF! | S10: =COUNTIFS(#REF!, Sheet1!R10,#REF!, Sheet1!Q$1) -> #REF! | Z10: =COUNTIFS(#REF!, Sheet1!Y10,#REF!, Sheet1!X$1) -> #REF! | AG10: =COUNTIFS(#REF!, Sheet1!AF10,#REF!, Sheet1!AE$1) -> #REF! | AN10: =COUNTIFS(#REF!, Sheet1!AM10,#REF!, Sheet1!AL$1) -> #REF! | AU10: =COUNTIFS(#REF!, Sheet1!AT10,#REF!, Sheet1!AS$1) -> #REF! | BB10: =COUNTIFS(#REF!, Sheet1!BA10,#REF!, Sheet1!AZ$1) -> #REF! | BI10: =COUNTIFS(#REF!, Sheet1!BH10,#REF!, Sheet1!BG$1) -> #REF! | BP10: =COUNTIFS(#REF!, Sheet1!BO10,#REF!, Sheet1!BN$1) -> #REF! | BW10: =COUNTIFS(#REF!, Sheet1!BV10,#REF!, Sheet1!BU$1) -> #REF! | CD10: =COUNTIFS(#REF!, Sheet1!CC10,#REF!, Sheet1!CB$1) -> #REF! | CK10: =COUNTIFS(#REF!, Sheet1!CJ10,#REF!, Sheet1!CI$1) -> #REF! | CR10: =COUNTIFS(#REF!, Sheet1!CQ10,#REF!, Sheet1!CP$1) -> #REF!
C11: =COUNTIFS(#REF!, Sheet1!B11,#REF!, Sheet1!$A$1) -> #REF! | E11: {=_xlfn.TEXTJOIN(", ", TRUE, _xlfn._xlws.FILTER(B:B, C:C=F11))} -> #REF! | L11: =COUNTIFS(#REF!, Sheet1!K11,#REF!, Sheet1!$J$1) -> #REF! | S11: =COUNTIFS(#REF!, Sheet1!R11,#REF!, Sheet1!Q$1) -> #REF! | Z11: =COUNTIFS(#REF!, Sheet1!Y11,#REF!, Sheet1!X$1) -> #REF! | AG11: =COUNTIFS(#REF!, Sheet1!AF11,#REF!, Sheet1!AE$1) -> #REF! | AN11: =COUNTIFS(#REF!, Sheet1!AM11,#REF!, Sheet1!AL$1) -> #REF! | AU11: =COUNTIFS(#REF!, Sheet1!AT11,#REF!, Sheet1!AS$1) -> #REF! | BB11: =COUNTIFS(#REF!, Sheet1!BA11,#REF!, Sheet1!AZ$1) -> #REF! | BI11: =COUNTIFS(#REF!, Sheet1!BH11,#REF!, Sheet1!BG$1) -> #REF! | BP11: =COUNTIFS(#REF!, Sheet1!BO11,#REF!, Sheet1!BN$1) -> #REF! | BW11: =COUNTIFS(#REF!, Sheet1!BV11,#REF!, Sheet1!BU$1) -> #REF! | CD11: =COUNTIFS(#REF!, Sheet1!CC11,#REF!, Sheet1!CB$1) -> #REF! | CK11: =COUNTIFS(#REF!, Sheet1!CJ11,#REF!, Sheet1!CI$1) -> #REF! | CR11: =COUNTIFS(#REF!, Sheet1!CQ11,#REF!, Sheet1!CP$1) -> #REF!
C12: =COUNTIFS(#REF!, Sheet1!B12,#REF!, Sheet1!$A$1) -> #REF! | E12: {=_xlfn.TEXTJOIN(", ", TRUE, _xlfn._xlws.FILTER(B:B, C:C=F12))} -> #REF! | L12: =COUNTIFS(#REF!, Sheet1!K12,#REF!, Sheet1!$J$1) -> #REF! | S12: =COUNTIFS(#REF!, Sheet1!R12,#REF!, Sheet1!Q$1) -> #REF! | Z12: =COUNTIFS(#REF!, Sheet1!Y12,#REF!, Sheet1!X$1) -> #REF! | AG12: =COUNTIFS(#REF!, Sheet1!AF12,#REF!, Sheet1!AE$1) -> #REF! | AN12: =COUNTIFS(#REF!, Sheet1!AM12,#REF!, Sheet1!AL$1) -> #REF! | AU12: =COUNTIFS(#REF!, Sheet1!AT12,#REF!, Sheet1!AS$1) -> #REF! | BB12: =COUNTIFS(#REF!, Sheet1!BA12,#REF!, Sheet1!AZ$1) -> #REF! | BI12: =COUNTIFS(#REF!, Sheet1!BH12,#REF!, Sheet1!BG$1) -> #REF! | BP12: =COUNTIFS(#REF!, Sheet1!BO12,#REF!, Sheet1!BN$1) -> #REF! | BW12: =COUNTIFS(#REF!, Sheet1!BV12,#REF!, Sheet1!BU$1) -> #REF! | CD12: =COUNTIFS(#REF!, Sheet1!CC12,#REF!, Sheet1!CB$1) -> #REF! | CK12: =COUNTIFS(#REF!, Sheet1!CJ12,#REF!, Sheet1!CI$1) -> #REF! | CR12: =COUNTIFS(#REF!, Sheet1!CQ12,#REF!, Sheet1!CP$1) -> #REF!
C13: =COUNTIFS(#REF!, Sheet1!B13,#REF!, Sheet1!$A$1) -> #REF! | E13: {=_xlfn.TEXTJOIN(", ", TRUE, _xlfn._xlws.FILTER(B:B, C:C=F13))} -> #REF! | L13: =COUNTIFS(#REF!, Sheet1!K13,#REF!, Sheet1!$J$1) -> #REF! | S13: =COUNTIFS(#REF!, Sheet1!R13,#REF!, Sheet1!Q$1) -> #REF! | Z13: =COUNTIFS(#REF!, Sheet1!Y13,#REF!, Sheet1!X$1) -> #REF! | AG13: =COUNTIFS(#REF!, Sheet1!AF13,#REF!, Sheet1!AE$1) -> #REF! | AN13: =COUNTIFS(#REF!, Sheet1!AM13,#REF!, Sheet1!AL$1) -> #REF! | AU13: =COUNTIFS(#REF!, Sheet1!AT13,#REF!, Sheet1!AS$1) -> #REF! | BB13: =COUNTIFS(#REF!, Sheet1!BA13,#REF!, Sheet1!AZ$1) -> #REF! | BI13: =COUNTIFS(#REF!, Sheet1!BH13,#REF!, Sheet1!BG$1) -> #REF! | BP13: =COUNTIFS(#REF!, Sheet1!BO13,#REF!, Sheet1!BN$1) -> #REF! | BW13: =COUNTIFS(#REF!, Sheet1!BV13,#REF!, Sheet1!BU$1) -> #REF! | CD13: =COUNTIFS(#REF!, Sheet1!CC13,#REF!, Sheet1!CB$1) -> #REF! | CK13: =COUNTIFS(#REF!, Sheet1!CJ13,#REF!, Sheet1!CI$1) -> #REF! | CR13: =COUNTIFS(#REF!, Sheet1!CQ13,#REF!, Sheet1!CP$1) -> #REF!
C14: =COUNTIFS(#REF!, Sheet1!B14,#REF!, Sheet1!$A$1) -> #REF! | L14: =COUNTIFS(#REF!, Sheet1!K14,#REF!, Sheet1!$J$1) -> #REF! | S14: =COUNTIFS(#REF!, Sheet1!R14,#REF!, Sheet1!Q$1) -> #REF! | Z14: =COUNTIFS(#REF!, Sheet1!Y14,#REF!, Sheet1!X$1) -> #REF! | AG14: =COUNTIFS(#REF!, Sheet1!AF14,#REF!, Sheet1!AE$1) -> #REF! | AN14: =COUNTIFS(#REF!, Sheet1!AM14,#REF!, Sheet1!AL$1) -> #REF! | AU14: =COUNTIFS(#REF!, Sheet1!AT14,#REF!, Sheet1!AS$1) -> #REF! | BB14: =COUNTIFS(#REF!, Sheet1!BA14,#REF!, Sheet1!AZ$1) -> #REF! | BI14: =COUNTIFS(#REF!, Sheet1!BH14,#REF!, Sheet1!BG$1) -> #REF! | BP14: =COUNTIFS(#REF!, Sheet1!BO14,#REF!, Sheet1!BN$1) -> #REF! | BW14: =COUNTIFS(#REF!, Sheet1!BV14,#REF!, Sheet1!BU$1) -> #REF! | CD14: =COUNTIFS(#REF!, Sheet1!CC14,#REF!, Sheet1!CB$1) -> #REF! | CK14: =COUNTIFS(#REF!, Sheet1!CJ14,#REF!, Sheet1!CI$1) -> #REF! | CR14: =COUNTIFS(#REF!, Sheet1!CQ14,#REF!, Sheet1!CP$1) -> #REF!
C15: =COUNTIFS(#REF!, Sheet1!B15,#REF!, Sheet1!$A$1) -> #REF! | L15: =COUNTIFS(#REF!, Sheet1!K15,#REF!, Sheet1!$J$1) -> #REF! | S15: =COUNTIFS(#REF!, Sheet1!R15,#REF!, Sheet1!Q$1) -> #REF! | Z15: =COUNTIFS(#REF!, Sheet1!Y15,#REF!, Sheet1!X$1) -> #REF! | AG15: =COUNTIFS(#REF!, Sheet1!AF15,#REF!, Sheet1!AE$1) -> #REF! | AN15: =COUNTIFS(#REF!, Sheet1!AM15,#REF!, Sheet1!AL$1) -> #REF! | AU15: =COUNTIFS(#REF!, Sheet1!AT15,#REF!, Sheet1!AS$1) -> #REF! | BB15: =COUNTIFS(#REF!, Sheet1!BA15,#REF!, Sheet1!AZ$1) -> #REF! | BI15: =COUNTIFS(#REF!, Sheet1!BH15,#REF!, Sheet1!BG$1) -> #REF! | BP15: =COUNTIFS(#REF!, Sheet1!BO15,#REF!, Sheet1!BN$1) -> #REF! | BW15: =COUNTIFS(#REF!, Sheet1!BV15,#REF!, Sheet1!BU$1) -> #REF! | CD15: =COUNTIFS(#REF!, Sheet1!CC15,#REF!, Sheet1!CB$1) -> #REF! | CK15: =COUNTIFS(#REF!, Sheet1!CJ15,#REF!, Sheet1!CI$1) -> #REF! | CR15: =COUNTIFS(#REF!, Sheet1!CQ15,#REF!, Sheet1!CP$1) -> #REF!
C16: =COUNTIFS(#REF!, Sheet1!B16,#REF!, Sheet1!$A$1) -> #REF! | L16: =COUNTIFS(#REF!, Sheet1!K16,#REF!, Sheet1!$J$1) -> #REF! | S16: =COUNTIFS(#REF!, Sheet1!R16,#REF!, Sheet1!Q$1) -> #REF! | Z16: =COUNTIFS(#REF!, Sheet1!Y16,#REF!, Sheet1!X$1) -> #REF! | AG16: =COUNTIFS(#REF!, Sheet1!AF16,#REF!, Sheet1!AE$1) -> #REF! | AN16: =COUNTIFS(#REF!, Sheet1!AM16,#REF!, Sheet1!AL$1) -> #REF! | AU16: =COUNTIFS(#REF!, Sheet1!AT16,#REF!, Sheet1!AS$1) -> #REF! | BB16: =COUNTIFS(#REF!, Sheet1!BA16,#REF!, Sheet1!AZ$1) -> #REF! | BI16: =COUNTIFS(#REF!, Sheet1!BH16,#REF!, Sheet1!BG$1) -> #REF! | BP16: =COUNTIFS(#REF!, Sheet1!BO16,#REF!, Sheet1!BN$1) -> #REF! | BW16: =COUNTIFS(#REF!, Sheet1!BV16,#REF!, Sheet1!BU$1) -> #REF! | CD16: =COUNTIFS(#REF!, Sheet1!CC16,#REF!, Sheet1!CB$1) -> #REF! | CK16: =COUNTIFS(#REF!, Sheet1!CJ16,#REF!, Sheet1!CI$1) -> #REF! | CR16: =COUNTIFS(#REF!, Sheet1!CQ16,#REF!, Sheet1!CP$1) -> #REF!
C17: =COUNTIFS(#REF!, Sheet1!B17,#REF!, Sheet1!$A$1) -> #REF! | L17: =COUNTIFS(#REF!, Sheet1!K17,#REF!, Sheet1!$J$1) -> #REF! | S17: =COUNTIFS(#REF!, Sheet1!R17,#REF!, Sheet1!Q$1) -> #REF! | Z17: =COUNTIFS(#REF!, Sheet1!Y17,#REF!, Sheet1!X$1) -> #REF! | AG17: =COUNTIFS(#REF!, Sheet1!AF17,#REF!, Sheet1!AE$1) -> #REF! | AN17: =COUNTIFS(#REF!, Sheet1!AM17,#REF!, Sheet1!AL$1) -> #REF! | AU17: =COUNTIFS(#REF!, Sheet1!AT17,#REF!, Sheet1!AS$1) -> #REF! | BB17: =COUNTIFS(#REF!, Sheet1!BA17,#REF!, Sheet1!AZ$1) -> #REF! | BI17: =COUNTIFS(#REF!, Sheet1!BH17,#REF!, Sheet1!BG$1) -> #REF! | BP17: =COUNTIFS(#REF!, Sheet1!BO17,#REF!, Sheet1!BN$1) -> #REF! | BW17: =COUNTIFS(#REF!, Sheet1!BV17,#REF!, Sheet1!BU$1) -> #REF! | CD17: =COUNTIFS(#REF!, Sheet1!CC17,#REF!, Sheet1!CB$1) -> #REF! | CK17: =COUNTIFS(#REF!, Sheet1!CJ17,#REF!, Sheet1!CI$1) -> #REF! | CR17: =COUNTIFS(#REF!, Sheet1!CQ17,#REF!, Sheet1!CP$1) -> #REF!
C18: =COUNTIFS(#REF!, Sheet1!B18,#REF!, Sheet1!$A$1) -> #REF! | L18: =COUNTIFS(#REF!, Sheet1!K18,#REF!, Sheet1!$J$1) -> #REF! | S18: =COUNTIFS(#REF!, Sheet1!R18,#REF!, Sheet1!Q$1) -> #REF! | Z18: =COUNTIFS(#REF!, Sheet1!Y18,#REF!, Sheet1!X$1) -> #REF! | AG18: =COUNTIFS(#REF!, Sheet1!AF18,#REF!, Sheet1!AE$1) -> #REF! | AN18: =COUNTIFS(#REF!, Sheet1!AM18,#REF!, Sheet1!AL$1) -> #REF! | AU18: =COUNTIFS(#REF!, Sheet1!AT18,#REF!, Sheet1!AS$1) -> #REF! | BB18: =COUNTIFS(#REF!, Sheet1!BA18,#REF!, Sheet1!AZ$1) -> #REF! | BI18: =COUNTIFS(#REF!, Sheet1!BH18,#REF!, Sheet1!BG$1) -> #REF! | BP18: =COUNTIFS(#REF!, Sheet1!BO18,#REF!, Sheet1!BN$1) -> #REF! | BW18: =COUNTIFS(#REF!, Sheet1!BV18,#REF!, Sheet1!BU$1) -> #REF! | CD18: =COUNTIFS(#REF!, Sheet1!CC18,#REF!, Sheet1!CB$1) -> #REF! | CK18: =COUNTIFS(#REF!, Sheet1!CJ18,#REF!, Sheet1!CI$1) -> #REF! | CR18: =COUNTIFS(#REF!, Sheet1!CQ18,#REF!, Sheet1!CP$1) -> #REF!
C19: =COUNTIFS(#REF!, Sheet1!B19,#REF!, Sheet1!$A$1) -> #REF! | L19: =COUNTIFS(#REF!, Sheet1!K19,#REF!, Sheet1!$J$1) -> #REF! | S19: =COUNTIFS(#REF!, Sheet1!R19,#REF!, Sheet1!Q$1) -> #REF! | Z19: =COUNTIFS(#REF!, Sheet1!Y19,#REF!, Sheet1!X$1) -> #REF! | AG19: =COUNTIFS(#REF!, Sheet1!AF19,#REF!, Sheet1!AE$1) -> #REF! | AN19: =COUNTIFS(#REF!, Sheet1!AM19,#REF!, Sheet1!AL$1) -> #REF! | AU19: =COUNTIFS(#REF!, Sheet1!AT19,#REF!, Sheet1!AS$1) -> #REF! | BB19: =COUNTIFS(#REF!, Sheet1!BA19,#REF!, Sheet1!AZ$1) -> #REF! | BI19: =COUNTIFS(#REF!, Sheet1!BH19,#REF!, Sheet1!BG$1) -> #REF! | BP19: =COUNTIFS(#REF!, Sheet1!BO19,#REF!, Sheet1!BN$1) -> #REF! | BW19: =COUNTIFS(#REF!, Sheet1!BV19,#REF!, Sheet1!BU$1) -> #REF! | CD19: =COUNTIFS(#REF!, Sheet1!CC19,#REF!, Sheet1!CB$1) -> #REF! | CK19: =COUNTIFS(#REF!, Sheet1!CJ19,#REF!, Sheet1!CI$1) -> #REF! | CR19: =COUNTIFS(#REF!, Sheet1!CQ19,#REF!, Sheet1!CP$1) -> #REF!
C20: =COUNTIFS(#REF!, Sheet1!B20,#REF!, Sheet1!$A$1) -> #REF! | L20: =COUNTIFS(#REF!, Sheet1!K20,#REF!, Sheet1!$J$1) -> #REF! | S20: =COUNTIFS(#REF!, Sheet1!R20,#REF!, Sheet1!Q$1) -> #REF! | Z20: =COUNTIFS(#REF!, Sheet1!Y20,#REF!, Sheet1!X$1) -> #REF! | AG20: =COUNTIFS(#REF!, Sheet1!AF20,#REF!, Sheet1!AE$1) -> #REF! | AN20: =COUNTIFS(#REF!, Sheet1!AM20,#REF!, Sheet1!AL$1) -> #REF! | AU20: =COUNTIFS(#REF!, Sheet1!AT20,#REF!, Sheet1!AS$1) -> #REF! | BB20: =COUNTIFS(#REF!, Sheet1!BA20,#REF!, Sheet1!AZ$1) -> #REF! | BI20: =COUNTIFS(#REF!, Sheet1!BH20,#REF!, Sheet1!BG$1) -> #REF! | BP20: =COUNTIFS(#REF!, Sheet1!BO20,#REF!, Sheet1!BN$1) -> #REF! | BW20: =COUNTIFS(#REF!, Sheet1!BV20,#REF!, Sheet1!BU$1) -> #REF! | CD20: =COUNTIFS(#REF!, Sheet1!CC20,#REF!, Sheet1!CB$1) -> #REF! | CK20: =COUNTIFS(#REF!, Sheet1!CJ20,#REF!, Sheet1!CI$1) -> #REF! | CR20: =COUNTIFS(#REF!, Sheet1!CQ20,#REF!, Sheet1!CP$1) -> #REF!
C21: =COUNTIFS(#REF!, Sheet1!B21,#REF!, Sheet1!$A$1) -> #REF! | L21: =COUNTIFS(#REF!, Sheet1!K21,#REF!, Sheet1!$J$1) -> #REF! | S21: =COUNTIFS(#REF!, Sheet1!R21,#REF!, Sheet1!Q$1) -> #REF! | Z21: =COUNTIFS(#REF!, Sheet1!Y21,#REF!, Sheet1!X$1) -> #REF! | AG21: =COUNTIFS(#REF!, Sheet1!AF21,#REF!, Sheet1!AE$1) -> #REF! | AN21: =COUNTIFS(#REF!, Sheet1!AM21,#REF!, Sheet1!AL$1) -> #REF! | AU21: =COUNTIFS(#REF!, Sheet1!AT21,#REF!, Sheet1!AS$1) -> #REF! | BB21: =COUNTIFS(#REF!, Sheet1!BA21,#REF!, Sheet1!AZ$1) -> #REF! | BI21: =COUNTIFS(#REF!, Sheet1!BH21,#REF!, Sheet1!BG$1) -> #REF! | BP21: =COUNTIFS(#REF!, Sheet1!BO21,#REF!, Sheet1!BN$1) -> #REF! | BW21: =COUNTIFS(#REF!, Sheet1!BV21,#REF!, Sheet1!BU$1) -> #REF! | CD21: =COUNTIFS(#REF!, Sheet1!CC21,#REF!, Sheet1!CB$1) -> #REF! | CK21: =COUNTIFS(#REF!, Sheet1!CJ21,#REF!, Sheet1!CI$1) -> #REF! | CR21: =COUNTIFS(#REF!, Sheet1!CQ21,#REF!, Sheet1!CP$1) -> #REF!
C22: =COUNTIFS(#REF!, Sheet1!B22,#REF!, Sheet1!$A$1) -> #REF! | L22: =COUNTIFS(#REF!, Sheet1!K22,#REF!, Sheet1!$J$1) -> #REF! | S22: =COUNTIFS(#REF!, Sheet1!R22,#REF!, Sheet1!Q$1) -> #REF! | Z22: =COUNTIFS(#REF!, Sheet1!Y22,#REF!, Sheet1!X$1) -> #REF! | AG22: =COUNTIFS(#REF!, Sheet1!AF22,#REF!, Sheet1!AE$1) -> #REF! | AN22: =COUNTIFS(#REF!, Sheet1!AM22,#REF!, Sheet1!AL$1) -> #REF! | AU22: =COUNTIFS(#REF!, Sheet1!AT22,#REF!, Sheet1!AS$1) -> #REF! | BB22: =COUNTIFS(#REF!, Sheet1!BA22,#REF!, Sheet1!AZ$1) -> #REF! | BI22: =COUNTIFS(#REF!, Sheet1!BH22,#REF!, Sheet1!BG$1) -> #REF! | BP22: =COUNTIFS(#REF!, Sheet1!BO22,#REF!, Sheet1!BN$1) -> #REF! | BW22: =COUNTIFS(#REF!, Sheet1!BV22,#REF!, Sheet1!BU$1) -> #REF! | CD22: =COUNTIFS(#REF!, Sheet1!CC22,#REF!, Sheet1!CB$1) -> #REF! | CK22: =COUNTIFS(#REF!, Sheet1!CJ22,#REF!, Sheet1!CI$1) -> #REF! | CR22: =COUNTIFS(#REF!, Sheet1!CQ22,#REF!, Sheet1!CP$1) -> #REF!
C23: =COUNTIFS(#REF!, Sheet1!B23,#REF!, Sheet1!$A$1) -> #REF! | L23: =COUNTIFS(#REF!, Sheet1!K23,#REF!, Sheet1!$J$1) -> #REF! | S23: =COUNTIFS(#REF!, Sheet1!R23,#REF!, Sheet1!Q$1) -> #REF! | Z23: =COUNTIFS(#REF!, Sheet1!Y23,#REF!, Sheet1!X$1) -> #REF! | AG23: =COUNTIFS(#REF!, Sheet1!AF23,#REF!, Sheet1!AE$1) -> #REF! | AN23: =COUNTIFS(#REF!, Sheet1!AM23,#REF!, Sheet1!AL$1) -> #REF! | AU23: =COUNTIFS(#REF!, Sheet1!AT23,#REF!, Sheet1!AS$1) -> #REF! | BB23: =COUNTIFS(#REF!, Sheet1!BA23,#REF!, Sheet1!AZ$1) -> #REF! | BI23: =COUNTIFS(#REF!, Sheet1!BH23,#REF!, Sheet1!BG$1) -> #REF! | BP23: =COUNTIFS(#REF!, Sheet1!BO23,#REF!, Sheet1!BN$1) -> #REF! | BW23: =COUNTIFS(#REF!, Sheet1!BV23,#REF!, Sheet1!BU$1) -> #REF! | CD23: =COUNTIFS(#REF!, Sheet1!CC23,#REF!, Sheet1!CB$1) -> #REF! | CK23: =COUNTIFS(#REF!, Sheet1!CJ23,#REF!, Sheet1!CI$1) -> #REF! | CR23: =COUNTIFS(#REF!, Sheet1!CQ23,#REF!, Sheet1!CP$1) -> #REF!
C24: =COUNTIFS(#REF!, Sheet1!B24,#REF!, Sheet1!$A$1) -> #REF! | L24: =COUNTIFS(#REF!, Sheet1!K24,#REF!, Sheet1!$J$1) -> #REF! | S24: =COUNTIFS(#REF!, Sheet1!R24,#REF!, Sheet1!Q$1) -> #REF! | Z24: =COUNTIFS(#REF!, Sheet1!Y24,#REF!, Sheet1!X$1) -> #REF! | AG24: =COUNTIFS(#REF!, Sheet1!AF24,#REF!, Sheet1!AE$1) -> #REF! | AN24: =COUNTIFS(#REF!, Sheet1!AM24,#REF!, Sheet1!AL$1) -> #REF! | AU24: =COUNTIFS(#REF!, Sheet1!AT24,#REF!, Sheet1!AS$1) -> #REF! | BB24: =COUNTIFS(#REF!, Sheet1!BA24,#REF!, Sheet1!AZ$1) -> #REF! | BI24: =COUNTIFS(#REF!, Sheet1!BH24,#REF!, Sheet1!BG$1) -> #REF! | BP24: =COUNTIFS(#REF!, Sheet1!BO24,#REF!, Sheet1!BN$1) -> #REF! | BW24: =COUNTIFS(#REF!, Sheet1!BV24,#REF!, Sheet1!BU$1) -> #REF! | CD24: =COUNTIFS(#REF!, Sheet1!CC24,#REF!, Sheet1!CB$1) -> #REF! | CK24: =COUNTIFS(#REF!, Sheet1!CJ24,#REF!, Sheet1!CI$1) -> #REF! | CR24: =COUNTIFS(#REF!, Sheet1!CQ24,#REF!, Sheet1!CP$1) -> #REF!
C25: =COUNTIFS(#REF!, Sheet1!B25,#REF!, Sheet1!$A$1) -> #REF! | L25: =COUNTIFS(#REF!, Sheet1!K25,#REF!, Sheet1!$J$1) -> #REF! | S25: =COUNTIFS(#REF!, Sheet1!R25,#REF!, Sheet1!Q$1) -> #REF! | Z25: =COUNTIFS(#REF!, Sheet1!Y25,#REF!, Sheet1!X$1) -> #REF! | AG25: =COUNTIFS(#REF!, Sheet1!AF25,#REF!, Sheet1!AE$1) -> #REF! | AN25: =COUNTIFS(#REF!, Sheet1!AM25,#REF!, Sheet1!AL$1) -> #REF! | AU25: =COUNTIFS(#REF!, Sheet1!AT25,#REF!, Sheet1!AS$1) -> #REF! | BB25: =COUNTIFS(#REF!, Sheet1!BA25,#REF!, Sheet1!AZ$1) -> #REF! | BI25: =COUNTIFS(#REF!, Sheet1!BH25,#REF!, Sheet1!BG$1) -> #REF! | BP25: =COUNTIFS(#REF!, Sheet1!BO25,#REF!, Sheet1!BN$1) -> #REF! | BW25: =COUNTIFS(#REF!, Sheet1!BV25,#REF!, Sheet1!BU$1) -> #REF! | CD25: =COUNTIFS(#REF!, Sheet1!CC25,#REF!, Sheet1!CB$1) -> #REF! | CK25: =COUNTIFS(#REF!, Sheet1!CJ25,#REF!, Sheet1!CI$1) -> #REF! | CR25: =COUNTIFS(#REF!, Sheet1!CQ25,#REF!, Sheet1!CP$1) -> #REF!
... C129: =COUNTIFS(#REF!, Sheet1!B129,#REF!, Sheet1!$A$1) -> #REF! | L129: =COUNTIFS(#REF!, Sheet1!K129,#REF!, Sheet1!$J$1) -> #REF! | S129: =COUNTIFS(#REF!, Sheet1!R129,#REF!, Sheet1!Q$1) -> #REF! | Z129: =COUNTIFS(#REF!, Sheet1!Y129,#REF!, Sheet1!X$1) -> #REF! | AG129: =COUNTIFS(#REF!, Sheet1!AF129,#REF!, Sheet1!AE$1) -> #REF! | AN129: =COUNTIFS(#REF!, Sheet1!AM129,#REF!, Sheet1!AL$1) -> #REF! | AU129: =COUNTIFS(#REF!, Sheet1!AT129,#REF!, Sheet1!AS$1) -> #REF! | BB129: =COUNTIFS(#REF!, Sheet1!BA129,#REF!, Sheet1!AZ$1) -> #REF! | BI129: =COUNTIFS(#REF!, Sheet1!BH129,#REF!, Sheet1!BG$1) -> #REF! | BP129: =COUNTIFS(#REF!, Sheet1!BO129,#REF!, Sheet1!BN$1) -> #REF! | BW129: =COUNTIFS(#REF!, Sheet1!BV129,#REF!, Sheet1!BU$1) -> #REF! | CD129: =COUNTIFS(#REF!, Sheet1!CC129,#REF!, Sheet1!CB$1) -> #REF! | CK129: =COUNTIFS(#REF!, Sheet1!CJ129,#REF!, Sheet1!CI$1) -> #REF! | CR129: =COUNTIFS(#REF!, Sheet1!CQ129,#REF!, Sheet1!CP$1) -> #REF!

Sheet Breakdown by City Neighborhood
B3: RESOLVED RESULTS BY CITY NEIGHBORHOODS
B9: MANHATTAN
B13: BRONX
B17: BROOKLYN
B21: QUEENS
B25: STATEN ISLAND
B30: MANHATTAN | C30: 2022 | H30: 2023 | M30: 2024 | R30: 2025 | W30: TOTAL OPERATIONS
C31: SUCCESSFUL | D31: MARKED CLEANED PRIOR BY DHS | E31: NEGATIVE OBSERVATION | F31: TOTALS | H31: SUCCESSFUL | I31: MARKED CLEANED PRIOR BY DHS | J31: NEGATIVE OBSERVATION | K31: TOTALS | M31: SUCCESSFUL | N31: MARKED CLEANED PRIOR BY DHS | O31: NEGATIVE OBSERVATION | P31: TOTALS | R31: SUCCESSFUL | S31: MARKED CLEANED PRIOR BY DHS | T31: NEGATIVE OBSERVATION | U31: TOTALS | W31: SUCCESSFUL | X31: MARKED CLEANED PRIOR BY DHS | Y31: NEGATIVE OBSERVATION | Z31: TOTALS
B32: ALPHABET CITY | C32: =COUNTIFS(#REF!, 'Breakdown by City Neighborhood'!$B32,#REF!, "PBMS",#REF!, $C$30,#REF!, 'Breakdown by City Neighborhood'!C$31)+COUNTIFS(#REF!, 'Breakdown by City Neighborhood'!$B32,#REF!, "PBMN",#REF!, $C$30,#REF!, 'Breakdown by City Neighborhood'!C$31) -> #REF! | D32: =COUNTIFS(#REF!, 'Breakdown by City Neighborhood'!$B32,#REF!, "PBMS",#REF!, $C$30,#REF!, 'Breakdown by City Neighborhood'!D$31)+COUNTIFS(#REF!, 'Breakdown by City Neighborhood'!$B32,#REF!, "PBMN",#REF!, $C$30,#REF!, 'Breakdown by City Neighborhood'!D$31) -> #REF! | E32: =COUNTIFS(#REF!, 'Breakdown by City Neighborhood'!$B32,#REF!, "PBMS",#REF!, $C$30,#REF!, 'Breakdown by City Neighborhood'!E$31)+COUNTIFS(#REF!, 'Breakdown by City Neighborhood'!$B32,#REF!, "PBMN",#REF!, $C$30,#REF!, 'Breakdown by City Neighborhood'!E$31) -> #REF! | F32: =C32+D32+E32 -> #REF! | H32: =COUNTIFS(#REF!, 'Breakdown by City Neighborhood'!$B32,#REF!, "PBMS",#REF!, $H$30,#REF!, 'Breakdown by City Neighborhood'!H$31)+COUNTIFS(#REF!, 'Breakdown by City Neighborhood'!$B32,#REF!, "PBMN",#REF!, $H$30,#REF!, 'Breakdown by City Neighborhood'!H$31) -> #REF! | I32: =COUNTIFS(#REF!, 'Breakdown by City Neighborhood'!$B32,#REF!, "PBMS",#REF!, $H$30,#REF!, 'Breakdown by City Neighborhood'!I$31)+COUNTIFS(#REF!, 'Breakdown by City Neighborhood'!$B32,#REF!, "PBMN",#REF!, $H$30,#REF!, 'Breakdown by City Neighborhood'!I$31) -> #REF! | J32: =COUNTIFS(#REF!, 'Breakdown by City Neighborhood'!$B32,#REF!, "PBMS",#REF!, $H$30,#REF!, 'Breakdown by City Neighborhood'!J$31)+COUNTIFS(#REF!, 'Breakdown by City Neighborhood'!$B32,#REF!, "PBMN",#REF!, $H$30,#REF!, 'Breakdown by City Neighborhood'!J$31) -> #REF! | K32: =H32+I32+J32 -> #REF! | M32: =COUNTIFS(#REF!, 'Breakdown by City Neighborhood'!$B32,#REF!, "PBMS",#REF!, $M$30,#REF!, 'Breakdown by City Neighborhood'!M$31)+COUNTIFS(#REF!, 'Breakdown by City Neighborhood'!$B32,#REF!, "PBMN",#REF!, $M$30,#REF!, 'Breakdown by City Neighborhood'!M$31) -> #REF! | N32: =COUNTIFS(#REF!, 'Breakdown by City Neighborhood'!$B32,#REF!, "PBMS",#REF!, $M$30,#REF!, 'Breakdown by City Neighborhood'!N$31)+COUNTIFS(#REF!, 'Breakdown by City Neighborhood'!$B32,#REF!, "PBMN",#REF!, $M$30,#REF!, 'Breakdown by City Neighborhood'!N$31) -> #REF! | O32: =COUNTIFS(#REF!, 'Breakdown by City Neighborhood'!$B32,#REF!, "PBMS",#REF!, $M$30,#REF!, 'Breakdown by City Neighborhood'!O$31)+COUNTIFS(#REF!, 'Breakdown by City Neighborhood'!$B32,#REF!, "PBMN",#REF!, $M$30,#REF!, 'Breakdown by City Neighborhood'!O$31) -> #REF! | P32: =M32+N32+O32 -> #REF! | R32: =COUNTIFS(#REF!, 'Breakdown by City Neighborhood'!$B32,#REF!, "PBMS",#REF!, $R$30,#REF!, 'Breakdown by City Neighborhood'!R$31)+COUNTIFS(#REF!, 'Breakdown by City Neighborhood'!$B32,#REF!, "PBMN",#REF!, $R$30,#REF!, 'Breakdown by City Neighborhood'!R$31) -> #REF! | S32: =COUNTIFS(#REF!, 'Breakdown by City Neighborhood'!$B32,#REF!, "PBMS",#REF!, $R$30,#REF!, 'Breakdown by City Neighborhood'!S$31)+COUNTIFS(#REF!, 'Breakdown by City Neighborhood'!$B32,#REF!, "PBMN",#REF!, $R$30,#REF!, 'Breakdown by City Neighborhood'!S$31) -> #REF! | T32: =COUNTIFS(#REF!, 'Breakdown by City Neighborhood'!$B32,#REF!, "PBMS",#REF!, $R$30,#REF!, 'Breakdown by City Neighborhood'!T$31)+COUNTIFS(#REF!, 'Breakdown by City Neighborhood'!$B32,#REF!, "PBMN",#REF!, $R$30,#REF!, 'Breakdown by City Neighborhood'!T$31) -> #REF! | U32: =SUM(R32:T32) -> #REF! | W32: =C32+H32+M32+R32 -> #REF! | X32: =D32+I32+N32+S32 -> #REF! | Y32: =E32+J32+O32+T32 -> #REF! | Z32: =W32+X32+Y32 -> #REF!
B33: BATTERY PARK CITY | C33: =COUNTIFS(#REF!, 'Breakdown by City Neighborhood'!$B33,#REF!, "PBMS",#REF!, $C$30,#REF!, 'Breakdown by City Neighborhood'!C$31)+COUNTIFS(#REF!, 'Breakdown by City Neighborhood'!$B33,#REF!, "PBMN",#REF!, $C$30,#REF!, 'Breakdown by City Neighborhood'!C$31) -> #REF! | D33: =COUNTIFS(#REF!, 'Breakdown by City Neighborhood'!$B33,#REF!, "PBMS",#REF!, $C$30,#REF!, 'Breakdown by City Neighborhood'!D$31)+COUNTIFS(#REF!, 'Breakdown by City Neighborhood'!$B33,#REF!, "PBMN",#REF!, $C$30,#REF!, 'Breakdown by City Neighborhood'!D$31) -> #REF! | E33: =COUNTIFS(#REF!, 'Breakdown by City Neighborhood'!$B33,#REF!, "PBMS",#REF!, $C$30,#REF!, 'Breakdown by City Neighborhood'!E$31)+COUNTIFS(#REF!, 'Breakdown by City Neighborhood'!$B33,#REF!, "PBMN",#REF!, $C$30,#REF!, 'Breakdown by City Neighborhood'!E$31) -> #REF! | F33: =C33+D33+E33 -> #REF! | H33: =COUNTIFS(#REF!, 'Breakdown by City Neighborhood'!$B33,#REF!, "PBMS",#REF!, $H$30,#REF!, 'Breakdown by City Neighborhood'!H$31)+COUNTIFS(#REF!, 'Breakdown by City Neighborhood'!$B33,#REF!, "PBMN",#REF!, $H$30,#REF!, 'Breakdown by City Neighborhood'!H$31) -> #REF! | I33: =COUNTIFS(#REF!, 'Breakdown by City Neighborhood'!$B33,#REF!, "PBMS",#REF!, $H$30,#REF!, 'Breakdown by City Neighborhood'!I$31)+COUNTIFS(#REF!, 'Breakdown by City Neighborhood'!$B33,#REF!, "PBMN",#REF!, $H$30,#REF!, 'Breakdown by City Neighborhood'!I$31) -> #REF! | J33: =COUNTIFS(#REF!, 'Breakdown by City Neighborhood'!$B33,#REF!, "PBMS",#REF!, $H$30,#REF!, 'Breakdown by City Neighborhood'!J$31)+COUNTIFS(#REF!, 'Breakdown by City Neighborhood'!$B33,#REF!, "PBMN",#REF!, $H$30,#REF!, 'Breakdown by City Neighborhood'!J$31) -> #REF! | K33: =H33+I33+J33 -> #REF! | M33: =COUNTIFS(#REF!, 'Breakdown by City Neighborhood'!$B33,#REF!, "PBMS",#REF!, $M$30,#REF!, 'Breakdown by City Neighborhood'!M$31)+COUNTIFS(#REF!, 'Breakdown by City Neighborhood'!$B33,#REF!, "PBMN",#REF!, $M$30,#REF!, 'Breakdown by City Neighborhood'!M$31) -> #REF! | N33: =COUNTIFS(#REF!, 'Breakdown by City Neighborhood'!$B33,#REF!, "PBMS",#REF!, $M$30,#REF!, 'Breakdown by City Neighborhood'!N$31)+COUNTIFS(#REF!, 'Breakdown by City Neighborhood'!$B33,#REF!, "PBMN",#REF!, $M$30,#REF!, 'Breakdown by City Neighborhood'!N$31) -> #REF! | O33: =COUNTIFS(#REF!, 'Breakdown by City Neighborhood'!$B33,#REF!, "PBMS",#REF!, $M$30,#REF!, 'Breakdown by City Neighborhood'!O$31)+COUNTIFS(#REF!, 'Breakdown by City Neighborhood'!$B33,#REF!, "PBMN",#REF!, $M$30,#REF!, 'Breakdown by City Neighborhood'!O$31) -> #REF! | P33: =M33+N33+O33 -> #REF! | R33: =COUNTIFS(#REF!, 'Breakdown by City Neighborhood'!$B33,#REF!, "PBMS",#REF!, $R$30,#REF!, 'Breakdown by City Neighborhood'!R$31)+COUNTIFS(#REF!, 'Breakdown by City Neighborhood'!$B33,#REF!, "PBMN",#REF!, $R$30,#REF!, 'Breakdown by City Neighborhood'!R$31) -> #REF! | S33: =COUNTIFS(#REF!, 'Breakdown by City Neighborhood'!$B33,#REF!, "PBMS",#REF!, $R$30,#REF!, 'Breakdown by City Neighborhood'!S$31)+COUNTIFS(#REF!, 'Breakdown by City Neighborhood'!$B33,#REF!, "PBMN",#REF!, $R$30,#REF!, 'Breakdown by City Neighborhood'!S$31) -> #REF! | T33: =COUNTIFS(#REF!, 'Breakdown by City Neighborhood'!$B33,#REF!, "PBMS",#REF!, $R$30,#REF!, 'Breakdown by City Neighborhood'!T$31)+COUNTIFS(#REF!, 'Breakdown by City Neighborhood'!$B33,#REF!, "PBMN",#REF!, $R$30,#REF!, 'Breakdown by City Neighborhood'!T$31) -> #REF! | U33: =SUM(R33:T33) -> #REF! | W33: =C33+H33+M33+R33 -> #REF! | X33: =D33+I33+N33+S33 -> #REF! | Y33: =E33+J33+O33+T33 -> #REF! | Z33: =W33+X33+Y33 -> #REF!
B34: BLOOMINGDALE DISTRICT | C34: =COUNTIFS(#REF!, 'Breakdown by City Neighborhood'!$B34,#REF!, "PBMS",#REF!, $C$30,#REF!, 'Breakdown by City Neighborhood'!C$31)+COUNTIFS(#REF!, 'Breakdown by City Neighborhood'!$B34,#REF!, "PBMN",#REF!, $C$30,#REF!, 'Breakdown by City Neighborhood'!C$31) -> #REF! | D34: =COUNTIFS(#REF!, 'Breakdown by City Neighborhood'!$B34,#REF!, "PBMS",#REF!, $C$30,#REF!, 'Breakdown by City Neighborhood'!D$31)+COUNTIFS(#REF!, 'Breakdown by City Neighborhood'!$B34,#REF!, "PBMN",#REF!, $C$30,#REF!, 'Breakdown by City Neighborhood'!D$31) -> #REF! | E34: =COUNTIFS(#REF!, 'Breakdown by City Neighborhood'!$B34,#REF!, "PBMS",#REF!, $C$30,#REF!, 'Breakdown by City Neighborhood'!E$31)+COUNTIFS(#REF!, 'Breakdown by City Neighborhood'!$B34,#REF!, "PBMN",#REF!, $C$30,#REF!, 'Breakdown by City Neighborhood'!E$31) -> #REF! | F34: =C34+D34+E34 -> #REF! | H34: =COUNTIFS(#REF!, 'Breakdown by City Neighborhood'!$B34,#REF!, "PBMS",#REF!, $H$30,#REF!, 'Breakdown by City Neighborhood'!H$31)+COUNTIFS(#REF!, 'Breakdown by City Neighborhood'!$B34,#REF!, "PBMN",#REF!, $H$30,#REF!, 'Breakdown by City Neighborhood'!H$31) -> #REF! | I34: =COUNTIFS(#REF!, 'Breakdown by City Neighborhood'!$B34,#REF!, "PBMS",#REF!, $H$30,#REF!, 'Breakdown by City Neighborhood'!I$31)+COUNTIFS(#REF!, 'Breakdown by City Neighborhood'!$B34,#REF!, "PBMN",#REF!, $H$30,#REF!, 'Breakdown by City Neighborhood'!I$31) -> #REF! | J34: =COUNTIFS(#REF!, 'Breakdown by City Neighborhood'!$B34,#REF!, "PBMS",#REF!, $H$30,#REF!, 'Breakdown by City Neighborhood'!J$31)+COUNTIFS(#REF!, 'Breakdown by City Neighborhood'!$B34,#REF!, "PBMN",#REF!, $H$30,#REF!, 'Breakdown by City Neighborhood'!J$31) -> #REF! | K34: =H34+I34+J34 -> #REF! | M34: =COUNTIFS(#REF!, 'Breakdown by City Neighborhood'!$B34,#REF!, "PBMS",#REF!, $M$30,#REF!, 'Breakdown by City Neighborhood'!M$31)+COUNTIFS(#REF!, 'Breakdown by City Neighborhood'!$B34,#REF!, "PBMN",#REF!, $M$30,#REF!, 'Breakdown by City Neighborhood'!M$31) -> #REF! | N34: =COUNTIFS(#REF!, 'Breakdown by City Neighborhood'!$B34,#REF!, "PBMS",#REF!, $M$30,#REF!, 'Breakdown by City Neighborhood'!N$31)+COUNTIFS(#REF!, 'Breakdown by City Neighborhood'!$B34,#REF!, "PBMN",#REF!, $M$30,#REF!, 'Breakdown by City Neighborhood'!N$31) -> #REF! | O34: =COUNTIFS(#REF!, 'Breakdown by City Neighborhood'!$B34,#REF!, "PBMS",#REF!, $M$30,#REF!, 'Breakdown by City Neighborhood'!O$31)+COUNTIFS(#REF!, 'Breakdown by City Neighborhood'!$B34,#REF!, "PBMN",#REF!, $M$30,#REF!, 'Breakdown by City Neighborhood'!O$31) -> #REF! | P34: =M34+N34+O34 -> #REF! | R34: =COUNTIFS(#REF!, 'Breakdown by City Neighborhood'!$B34,#REF!, "PBMS",#REF!, $R$30,#REF!, 'Breakdown by City Neighborhood'!R$31)+COUNTIFS(#REF!, 'Breakdown by City Neighborhood'!$B34,#REF!, "PBMN",#REF!, $R$30,#REF!, 'Breakdown by City Neighborhood'!R$31) -> #REF! | S34: =COUNTIFS(#REF!, 'Breakdown by City Neighborhood'!$B34,#REF!, "PBMS",#REF!, $R$30,#REF!, 'Breakdown by City Neighborhood'!S$31)+COUNTIFS(#REF!, 'Breakdown by City Neighborhood'!$B34,#REF!, "PBMN",#REF!, $R$30,#REF!, 'Breakdown by City Neighborhood'!S$31) -> #REF! | T34: =COUNTIFS(#REF!, 'Breakdown by City Neighborhood'!$B34,#REF!, "PBMS",#REF!, $R$30,#REF!, 'Breakdown by City Neighborhood'!T$31)+COUNTIFS(#REF!, 'Breakdown by City Neighborhood'!$B34,#REF!, "PBMN",#REF!, $R$30,#REF!, 'Breakdown by City Neighborhood'!T$31) -> #REF! | U34: =SUM(R34:T34) -> #REF! | W34: =C34+H34+M34+R34 -> #REF! | X34: =D34+I34+N34+S34 -> #REF! | Y34: =E34+J34+O34+T34 -> #REF! | Z34: =W34+X34+Y34 -> #REF!
B35: BOWERY | C35: =COUNTIFS(#REF!, 'Breakdown by City Neighborhood'!$B35,#REF!, "PBMS",#REF!, $C$30,#REF!, 'Breakdown by City Neighborhood'!C$31)+COUNTIFS(#REF!, 'Breakdown by City Neighborhood'!$B35,#REF!, "PBMN",#REF!, $C$30,#REF!, 'Breakdown by City Neighborhood'!C$31) -> #REF! | D35: =COUNTIFS(#REF!, 'Breakdown by City Neighborhood'!$B35,#REF!, "PBMS",#REF!, $C$30,#REF!, 'Breakdown by City Neighborhood'!D$31)+COUNTIFS(#REF!, 'Breakdown by City Neighborhood'!$B35,#REF!, "PBMN",#REF!, $C$30,#REF!, 'Breakdown by City Neighborhood'!D$31) -> #REF! | E35: =COUNTIFS(#REF!, 'Breakdown by City Neighborhood'!$B35,#REF!, "PBMS",#REF!, $C$30,#REF!, 'Breakdown by City Neighborhood'!E$31)+COUNTIFS(#REF!, 'Breakdown by City Neighborhood'!$B35,#REF!, "PBMN",#REF!, $C$30,#REF!, 'Breakdown by City Neighborhood'!E$31) -> #REF! | F35: =C35+D35+E35 -> #REF! | H35: =COUNTIFS(#REF!, 'Breakdown by City Neighborhood'!$B35,#REF!, "PBMS",#REF!, $H$30,#REF!, 'Breakdown by City Neighborhood'!H$31)+COUNTIFS(#REF!, 'Breakdown by City Neighborhood'!$B35,#REF!, "PBMN",#REF!, $H$30,#REF!, 'Breakdown by City Neighborhood'!H$31) -> #REF! | I35: =COUNTIFS(#REF!, 'Breakdown by City Neighborhood'!$B35,#REF!, "PBMS",#REF!, $H$30,#REF!, 'Breakdown by City Neighborhood'!I$31)+COUNTIFS(#REF!, 'Breakdown by City Neighborhood'!$B35,#REF!, "PBMN",#REF!, $H$30,#REF!, 'Breakdown by City Neighborhood'!I$31) -> #REF! | J35: =COUNTIFS(#REF!, 'Breakdown by City Neighborhood'!$B35,#REF!, "PBMS",#REF!, $H$30,#REF!, 'Breakdown by City Neighborhood'!J$31)+COUNTIFS(#REF!, 'Breakdown by City Neighborhood'!$B35,#REF!, "PBMN",#REF!, $H$30,#REF!, 'Breakdown by City Neighborhood'!J$31) -> #REF! | K35: =H35+I35+J35 -> #REF! | M35: =COUNTIFS(#REF!, 'Breakdown by City Neighborhood'!$B35,#REF!, "PBMS",#REF!, $M$30,#REF!, 'Breakdown by City Neighborhood'!M$31)+COUNTIFS(#REF!, 'Breakdown by City Neighborhood'!$B35,#REF!, "PBMN",#REF!, $M$30,#REF!, 'Breakdown by City Neighborhood'!M$31) -> #REF! | N35: =COUNTIFS(#REF!, 'Breakdown by City Neighborhood'!$B35,#REF!, "PBMS",#REF!, $M$30,#REF!, 'Breakdown by City Neighborhood'!N$31)+COUNTIFS(#REF!, 'Breakdown by City Neighborhood'!$B35,#REF!, "PBMN",#REF!, $M$30,#REF!, 'Breakdown by City Neighborhood'!N$31) -> #REF! | O35: =COUNTIFS(#REF!, 'Breakdown by City Neighborhood'!$B35,#REF!, "PBMS",#REF!, $M$30,#REF!, 'Breakdown by City Neighborhood'!O$31)+COUNTIFS(#REF!, 'Breakdown by City Neighborhood'!$B35,#REF!, "PBMN",#REF!, $M$30,#REF!, 'Breakdown by City Neighborhood'!O$31) -> #REF! | P35: =M35+N35+O35 -> #REF! | R35: =COUNTIFS(#REF!, 'Breakdown by City Neighborhood'!$B35,#REF!, "PBMS",#REF!, $R$30,#REF!, 'Breakdown by City Neighborhood'!R$31)+COUNTIFS(#REF!, 'Breakdown by City Neighborhood'!$B35,#REF!, "PBMN",#REF!, $R$30,#REF!, 'Breakdown by City Neighborhood'!R$31) -> #REF! | S35: =COUNTIFS(#REF!, 'Breakdown by City Neighborhood'!$B35,#REF!, "PBMS",#REF!, $R$30,#REF!, 'Breakdown by City Neighborhood'!S$31)+COUNTIFS(#REF!, 'Breakdown by City Neighborhood'!$B35,#REF!, "PBMN",#REF!, $R$30,#REF!, 'Breakdown by City Neighborhood'!S$31) -> #REF! | T35: =COUNTIFS(#REF!, 'Breakdown by City Neighborhood'!$B35,#REF!, "PBMS",#REF!, $R$30,#REF!, 'Breakdown by City Neighborhood'!T$31)+COUNTIFS(#REF!, 'Breakdown by City Neighborhood'!$B35,#REF!, "PBMN",#REF!, $R$30,#REF!, 'Breakdown by City Neighborhood'!T$31) -> #REF! | U35: =SUM(R35:T35) -> #REF! | W35: =C35+H35+M35+R35 -> #REF! | X35: =D35+I35+N35+S35 -> #REF! | Y35: =E35+J35+O35+T35 -> #REF! | Z35: =W35+X35+Y35 -> #REF!
B36: CARNEGIE HILL | C36: =COUNTIFS(#REF!, 'Breakdown by City Neighborhood'!$B36,#REF!, "PBMS",#REF!, $C$30,#REF!, 'Breakdown by City Neighborhood'!C$31)+COUNTIFS(#REF!, 'Breakdown by City Neighborhood'!$B36,#REF!, "PBMN",#REF!, $C$30,#REF!, 'Breakdown by City Neighborhood'!C$31) -> #REF! | D36: =COUNTIFS(#REF!, 'Breakdown by City Neighborhood'!$B36,#REF!, "PBMS",#REF!, $C$30,#REF!, 'Breakdown by City Neighborhood'!D$31)+COUNTIFS(#REF!, 'Breakdown by City Neighborhood'!$B36,#REF!, "PBMN",#REF!, $C$30,#REF!, 'Breakdown by City Neighborhood'!D$31) -> #REF! | E36: =COUNTIFS(#REF!, 'Breakdown by City Neighborhood'!$B36,#REF!, "PBMS",#REF!, $C$30,#REF!, 'Breakdown by City Neighborhood'!E$31)+COUNTIFS(#REF!, 'Breakdown by City Neighborhood'!$B36,#REF!, "PBMN",#REF!, $C$30,#REF!, 'Breakdown by City Neighborhood'!E$31) -> #REF! | F36: =C36+D36+E36 -> #REF! | H36: =COUNTIFS(#REF!, 'Breakdown by City Neighborhood'!$B36,#REF!, "PBMS",#REF!, $H$30,#REF!, 'Breakdown by City Neighborhood'!H$31)+COUNTIFS(#REF!, 'Breakdown by City Neighborhood'!$B36,#REF!, "PBMN",#REF!, $H$30,#REF!, 'Breakdown by City Neighborhood'!H$31) -> #REF! | I36: =COUNTIFS(#REF!, 'Breakdown by City Neighborhood'!$B36,#REF!, "PBMS",#REF!, $H$30,#REF!, 'Breakdown by City Neighborhood'!I$31)+COUNTIFS(#REF!, 'Breakdown by City Neighborhood'!$B36,#REF!, "PBMN",#REF!, $H$30,#REF!, 'Breakdown by City Neighborhood'!I$31) -> #REF! | J36: =COUNTIFS(#REF!, 'Breakdown by City Neighborhood'!$B36,#REF!, "PBMS",#REF!, $H$30,#REF!, 'Breakdown by City Neighborhood'!J$31)+COUNTIFS(#REF!, 'Breakdown by City Neighborhood'!$B36,#REF!, "PBMN",#REF!, $H$30,#REF!, 'Breakdown by City Neighborhood'!J$31) -> #REF! | K36: =H36+I36+J36 -> #REF! | M36: =COUNTIFS(#REF!, 'Breakdown by City Neighborhood'!$B36,#REF!, "PBMS",#REF!, $M$30,#REF!, 'Breakdown by City Neighborhood'!M$31)+COUNTIFS(#REF!, 'Breakdown by City Neighborhood'!$B36,#REF!, "PBMN",#REF!, $M$30,#REF!, 'Breakdown by City Neighborhood'!M$31) -> #REF! | N36: =COUNTIFS(#REF!, 'Breakdown by City Neighborhood'!$B36,#REF!, "PBMS",#REF!, $M$30,#REF!, 'Breakdown by City Neighborhood'!N$31)+COUNTIFS(#REF!, 'Breakdown by City Neighborhood'!$B36,#REF!, "PBMN",#REF!, $M$30,#REF!, 'Breakdown by City Neighborhood'!N$31) -> #REF! | O36: =COUNTIFS(#REF!, 'Breakdown by City Neighborhood'!$B36,#REF!, "PBMS",#REF!, $M$30,#REF!, 'Breakdown by City Neighborhood'!O$31)+COUNTIFS(#REF!, 'Breakdown by City Neighborhood'!$B36,#REF!, "PBMN",#REF!, $M$30,#REF!, 'Breakdown by City Neighborhood'!O$31) -> #REF! | P36: =M36+N36+O36 -> #REF! | R36: =COUNTIFS(#REF!, 'Breakdown by City Neighborhood'!$B36,#REF!, "PBMS",#REF!, $R$30,#REF!, 'Breakdown by City Neighborhood'!R$31)+COUNTIFS(#REF!, 'Breakdown by City Neighborhood'!$B36,#REF!, "PBMN",#REF!, $R$30,#REF!, 'Breakdown by City Neighborhood'!R$31) -> #REF! | S36: =COUNTIFS(#REF!, 'Breakdown by City Neighborhood'!$B36,#REF!, "PBMS",#REF!, $R$30,#REF!, 'Breakdown by City Neighborhood'!S$31)+COUNTIFS(#REF!, 'Breakdown by City Neighborhood'!$B36,#REF!, "PBMN",#REF!, $R$30,#REF!, 'Breakdown by City Neighborhood'!S$31) -> #REF! | T36: =COUNTIFS(#REF!, 'Breakdown by City Neighborhood'!$B36,#REF!, "PBMS",#REF!, $R$30,#REF!, 'Breakdown by City Neighborhood'!T$31)+COUNTIFS(#REF!, 'Breakdown by City Neighborhood'!$B36,#REF!, "PBMN",#REF!, $R$30,#REF!, 'Breakdown by City Neighborhood'!T$31) -> #REF! | U36: =SUM(R36:T36) -> #REF! | W36: =C36+H36+M36+R36 -> #REF! | X36: =D36+I36+N36+S36 -> #REF! | Y36: =E36+J36+O36+T36 -> #REF! | Z36: =W36+X36+Y36 -> #REF!
